| Back to Multiple platform build/check report for BioC 3.7 |
|
This page was generated on 2018-10-17 08:53:34 -0400 (Wed, 17 Oct 2018).
| Package 1462/1561 | Hostname | OS / Arch | INSTALL | BUILD | CHECK | BUILD BIN | ||||||
| systemPipeR 1.14.0 Thomas Girke
| malbec2 | Linux (Ubuntu 16.04.1 LTS) / x86_64 | OK | OK | OK | |||||||
| tokay2 | Windows Server 2012 R2 Standard / x64 | OK | OK | OK | OK | |||||||
| merida2 | OS X 10.11.6 El Capitan / x86_64 | OK | OK | OK | [ OK ] |
| Package: systemPipeR |
| Version: 1.14.0 |
| Command: rm -rf systemPipeR.buildbin-libdir && mkdir systemPipeR.buildbin-libdir && /Users/biocbuild/BBS/utils/build-universal.sh systemPipeR_1.14.0.tar.gz /Library/Frameworks/R.framework/Versions/Current/Resources/bin/R systemPipeR.buildbin-libdir |
| StartedAt: 2018-10-17 02:15:09 -0400 (Wed, 17 Oct 2018) |
| EndedAt: 2018-10-17 02:16:11 -0400 (Wed, 17 Oct 2018) |
| EllapsedTime: 62.0 seconds |
| RetCode: 0 |
| Status: OK |
| PackageFile: systemPipeR_1.14.0.tgz |
| PackageFileSize: 5.15 MiB |
############################################################################## ############################################################################## ### ### Running command: ### ### rm -rf systemPipeR.buildbin-libdir && mkdir systemPipeR.buildbin-libdir && /Users/biocbuild/BBS/utils/build-universal.sh systemPipeR_1.14.0.tar.gz /Library/Frameworks/R.framework/Versions/Current/Resources/bin/R systemPipeR.buildbin-libdir ### ############################################################################## ############################################################################## >>>>>>> >>>>>>> INSTALLATION WITH 'R CMD INSTALL --preclean --no-multiarch --library=systemPipeR.buildbin-libdir systemPipeR_1.14.0.tar.gz' >>>>>>> * installing *source* package ‘systemPipeR’ ... ** R ** inst ** byte-compile and prepare package for lazy loading ** help *** installing help indices ** building package indices ** installing vignettes ** testing if installed package can be loaded * DONE (systemPipeR)