| Back to Multiple platform build/check report for BioC 3.7 |
|
This page was generated on 2018-10-17 08:41:19 -0400 (Wed, 17 Oct 2018).
| Package 1444/1561 | Hostname | OS / Arch | INSTALL | BUILD | CHECK | BUILD BIN | ||||||
| subSeq 1.10.0 Andrew J. Bass
| malbec2 | Linux (Ubuntu 16.04.1 LTS) / x86_64 | OK | OK | OK | |||||||
| tokay2 | Windows Server 2012 R2 Standard / x64 | OK | OK | OK | [ OK ] | |||||||
| merida2 | OS X 10.11.6 El Capitan / x86_64 | OK | OK | OK | OK |
| Package: subSeq |
| Version: 1.10.0 |
| Command: rm -rf subSeq.buildbin-libdir && mkdir subSeq.buildbin-libdir && C:\Users\biocbuild\bbs-3.7-bioc\R\bin\R.exe CMD INSTALL --merge-multiarch --build --library=subSeq.buildbin-libdir subSeq_1.10.0.tar.gz |
| StartedAt: 2018-10-17 07:02:55 -0400 (Wed, 17 Oct 2018) |
| EndedAt: 2018-10-17 07:03:08 -0400 (Wed, 17 Oct 2018) |
| EllapsedTime: 13.1 seconds |
| RetCode: 0 |
| Status: OK |
| PackageFile: subSeq_1.10.0.zip |
| PackageFileSize: 2.945 MiB |
##############################################################################
##############################################################################
###
### Running command:
###
### rm -rf subSeq.buildbin-libdir && mkdir subSeq.buildbin-libdir && C:\Users\biocbuild\bbs-3.7-bioc\R\bin\R.exe CMD INSTALL --merge-multiarch --build --library=subSeq.buildbin-libdir subSeq_1.10.0.tar.gz
###
##############################################################################
##############################################################################
install for i386
* installing *source* package 'subSeq' ...
** R
** data
** inst
** byte-compile and prepare package for lazy loading
** help
*** installing help indices
converting help for package 'subSeq'
finding HTML links ... done
combineSubsamples html
generateSubsampledMatrix html
getSeed html
hammer html
plot.subsamples html
plot.summary.subsamples html
ss html
subsample html
summary.subsamples html
** building package indices
** installing vignettes
** testing if installed package can be loaded
In R CMD INSTALL
install for x64
* installing *source* package 'subSeq' ...
** testing if installed package can be loaded
* MD5 sums
packaged installation of 'subSeq' as subSeq_1.10.0.zip
* DONE (subSeq)
In R CMD INSTALL
In R CMD INSTALL