| Back to Multiple platform build/check report for BioC 3.7 |
|
This page was generated on 2018-10-17 08:34:09 -0400 (Wed, 17 Oct 2018).
| Package 1411/1561 | Hostname | OS / Arch | INSTALL | BUILD | CHECK | BUILD BIN | ||||||
| spkTools 1.36.0 Matthew N McCall
| malbec2 | Linux (Ubuntu 16.04.1 LTS) / x86_64 | OK | OK | OK | |||||||
| tokay2 | Windows Server 2012 R2 Standard / x64 | OK | OK | OK | [ OK ] | |||||||
| merida2 | OS X 10.11.6 El Capitan / x86_64 | OK | OK | OK | OK |
| Package: spkTools |
| Version: 1.36.0 |
| Command: rm -rf spkTools.buildbin-libdir && mkdir spkTools.buildbin-libdir && C:\Users\biocbuild\bbs-3.7-bioc\R\bin\R.exe CMD INSTALL --merge-multiarch --build --library=spkTools.buildbin-libdir spkTools_1.36.0.tar.gz |
| StartedAt: 2018-10-17 07:01:46 -0400 (Wed, 17 Oct 2018) |
| EndedAt: 2018-10-17 07:01:59 -0400 (Wed, 17 Oct 2018) |
| EllapsedTime: 12.5 seconds |
| RetCode: 0 |
| Status: OK |
| PackageFile: spkTools_1.36.0.zip |
| PackageFileSize: 721.7 KiB |
##############################################################################
##############################################################################
###
### Running command:
###
### rm -rf spkTools.buildbin-libdir && mkdir spkTools.buildbin-libdir && C:\Users\biocbuild\bbs-3.7-bioc\R\bin\R.exe CMD INSTALL --merge-multiarch --build --library=spkTools.buildbin-libdir spkTools_1.36.0.tar.gz
###
##############################################################################
##############################################################################
install for i386
* installing *source* package 'spkTools' ...
** R
** data
** inst
** byte-compile and prepare package for lazy loading
** help
*** installing help indices
converting help for package 'spkTools'
finding HTML links ... done
SpikeInExpressSet-class html
affy html
plotSpkBox html
spkAccSD html
spkAll html
spkAnova html
spkBal html
spkBox html
spkDensity html
spkGNN html
spkMA html
spkPair html
spkPairNS html
spkPot html
spkQuantile html
spkSlope html
spkTools html
spkVar html
summarySpkBox html
** building package indices
** installing vignettes
** testing if installed package can be loaded
In R CMD INSTALL
install for x64
* installing *source* package 'spkTools' ...
** testing if installed package can be loaded
* MD5 sums
packaged installation of 'spkTools' as spkTools_1.36.0.zip
* DONE (spkTools)
In R CMD INSTALL
In R CMD INSTALL