| Back to Multiple platform build/check report for BioC 3.7 |
|
This page was generated on 2018-10-17 09:00:02 -0400 (Wed, 17 Oct 2018).
| Package 1382/1561 | Hostname | OS / Arch | INSTALL | BUILD | CHECK | BUILD BIN | ||||||
| singleCellTK 1.0.3 David Jenkins
| malbec2 | Linux (Ubuntu 16.04.1 LTS) / x86_64 | OK | OK | OK | |||||||
| tokay2 | Windows Server 2012 R2 Standard / x64 | OK | OK | OK | OK | |||||||
| merida2 | OS X 10.11.6 El Capitan / x86_64 | OK | OK | OK | [ OK ] |
| Package: singleCellTK |
| Version: 1.0.3 |
| Command: rm -rf singleCellTK.buildbin-libdir && mkdir singleCellTK.buildbin-libdir && /Users/biocbuild/BBS/utils/build-universal.sh singleCellTK_1.0.3.tar.gz /Library/Frameworks/R.framework/Versions/Current/Resources/bin/R singleCellTK.buildbin-libdir |
| StartedAt: 2018-10-17 02:09:31 -0400 (Wed, 17 Oct 2018) |
| EndedAt: 2018-10-17 02:10:23 -0400 (Wed, 17 Oct 2018) |
| EllapsedTime: 51.3 seconds |
| RetCode: 0 |
| Status: OK |
| PackageFile: singleCellTK_1.0.3.tgz |
| PackageFileSize: 3.977 MiB |
############################################################################## ############################################################################## ### ### Running command: ### ### rm -rf singleCellTK.buildbin-libdir && mkdir singleCellTK.buildbin-libdir && /Users/biocbuild/BBS/utils/build-universal.sh singleCellTK_1.0.3.tar.gz /Library/Frameworks/R.framework/Versions/Current/Resources/bin/R singleCellTK.buildbin-libdir ### ############################################################################## ############################################################################## >>>>>>> >>>>>>> INSTALLATION WITH 'R CMD INSTALL --preclean --no-multiarch --library=singleCellTK.buildbin-libdir singleCellTK_1.0.3.tar.gz' >>>>>>> * installing *source* package ‘singleCellTK’ ... ** R ** data *** moving datasets to lazyload DB ** inst ** byte-compile and prepare package for lazy loading ** help *** installing help indices ** building package indices ** installing vignettes ** testing if installed package can be loaded * DONE (singleCellTK)