| Back to Multiple platform build/check report for BioC 3.7 |
|
This page was generated on 2018-10-17 08:56:42 -0400 (Wed, 17 Oct 2018).
| Package 1368/1561 | Hostname | OS / Arch | INSTALL | BUILD | CHECK | BUILD BIN | ||||||
| sights 1.6.0 Elika Garg
| malbec2 | Linux (Ubuntu 16.04.1 LTS) / x86_64 | OK | OK | OK | |||||||
| tokay2 | Windows Server 2012 R2 Standard / x64 | OK | OK | WARNINGS | OK | |||||||
| merida2 | OS X 10.11.6 El Capitan / x86_64 | OK | OK | OK | [ OK ] |
| Package: sights |
| Version: 1.6.0 |
| Command: rm -rf sights.buildbin-libdir && mkdir sights.buildbin-libdir && /Users/biocbuild/BBS/utils/build-universal.sh sights_1.6.0.tar.gz /Library/Frameworks/R.framework/Versions/Current/Resources/bin/R sights.buildbin-libdir |
| StartedAt: 2018-10-17 02:08:48 -0400 (Wed, 17 Oct 2018) |
| EndedAt: 2018-10-17 02:09:40 -0400 (Wed, 17 Oct 2018) |
| EllapsedTime: 51.7 seconds |
| RetCode: 0 |
| Status: OK |
| PackageFile: sights_1.6.0.tgz |
| PackageFileSize: 3.652 MiB |
############################################################################## ############################################################################## ### ### Running command: ### ### rm -rf sights.buildbin-libdir && mkdir sights.buildbin-libdir && /Users/biocbuild/BBS/utils/build-universal.sh sights_1.6.0.tar.gz /Library/Frameworks/R.framework/Versions/Current/Resources/bin/R sights.buildbin-libdir ### ############################################################################## ############################################################################## >>>>>>> >>>>>>> INSTALLATION WITH 'R CMD INSTALL --preclean --no-multiarch --library=sights.buildbin-libdir sights_1.6.0.tar.gz' >>>>>>> * installing *source* package ‘sights’ ... ** R ** data *** moving datasets to lazyload DB ** inst ** byte-compile and prepare package for lazy loading ** help *** installing help indices ** building package indices ** installing vignettes ** testing if installed package can be loaded * DONE (sights)