| Back to Multiple platform build/check report for BioC 3.7 |
|
This page was generated on 2018-10-17 08:59:51 -0400 (Wed, 17 Oct 2018).
| Package 1352/1561 | Hostname | OS / Arch | INSTALL | BUILD | CHECK | BUILD BIN | ||||||
| seqsetvis 1.0.2 Joseph R Boyd
| malbec2 | Linux (Ubuntu 16.04.1 LTS) / x86_64 | OK | OK | OK | |||||||
| tokay2 | Windows Server 2012 R2 Standard / x64 | OK | OK | OK | OK | |||||||
| merida2 | OS X 10.11.6 El Capitan / x86_64 | OK | OK | OK | [ OK ] |
| Package: seqsetvis |
| Version: 1.0.2 |
| Command: rm -rf seqsetvis.buildbin-libdir && mkdir seqsetvis.buildbin-libdir && /Users/biocbuild/BBS/utils/build-universal.sh seqsetvis_1.0.2.tar.gz /Library/Frameworks/R.framework/Versions/Current/Resources/bin/R seqsetvis.buildbin-libdir |
| StartedAt: 2018-10-17 02:08:00 -0400 (Wed, 17 Oct 2018) |
| EndedAt: 2018-10-17 02:08:42 -0400 (Wed, 17 Oct 2018) |
| EllapsedTime: 42.2 seconds |
| RetCode: 0 |
| Status: OK |
| PackageFile: seqsetvis_1.0.2.tgz |
| PackageFileSize: 2.193 MiB |
############################################################################## ############################################################################## ### ### Running command: ### ### rm -rf seqsetvis.buildbin-libdir && mkdir seqsetvis.buildbin-libdir && /Users/biocbuild/BBS/utils/build-universal.sh seqsetvis_1.0.2.tar.gz /Library/Frameworks/R.framework/Versions/Current/Resources/bin/R seqsetvis.buildbin-libdir ### ############################################################################## ############################################################################## >>>>>>> >>>>>>> INSTALLATION WITH 'R CMD INSTALL --preclean --no-multiarch --library=seqsetvis.buildbin-libdir seqsetvis_1.0.2.tar.gz' >>>>>>> * installing *source* package ‘seqsetvis’ ... ** R ** data *** moving datasets to lazyload DB ** inst ** byte-compile and prepare package for lazy loading ** help *** installing help indices ** building package indices ** installing vignettes ** testing if installed package can be loaded * DONE (seqsetvis)