| Back to Multiple platform build/check report for BioC 3.7 |
|
This page was generated on 2018-10-17 08:39:53 -0400 (Wed, 17 Oct 2018).
| Package 1350/1561 | Hostname | OS / Arch | INSTALL | BUILD | CHECK | BUILD BIN | ||||||
| seqPattern 1.12.0 Vanja Haberle
| malbec2 | Linux (Ubuntu 16.04.1 LTS) / x86_64 | OK | OK | OK | |||||||
| tokay2 | Windows Server 2012 R2 Standard / x64 | OK | OK | OK | [ OK ] | |||||||
| merida2 | OS X 10.11.6 El Capitan / x86_64 | OK | OK | OK | OK |
| Package: seqPattern |
| Version: 1.12.0 |
| Command: rm -rf seqPattern.buildbin-libdir && mkdir seqPattern.buildbin-libdir && C:\Users\biocbuild\bbs-3.7-bioc\R\bin\R.exe CMD INSTALL --merge-multiarch --build --library=seqPattern.buildbin-libdir seqPattern_1.12.0.tar.gz |
| StartedAt: 2018-10-17 06:58:58 -0400 (Wed, 17 Oct 2018) |
| EndedAt: 2018-10-17 06:59:14 -0400 (Wed, 17 Oct 2018) |
| EllapsedTime: 15.9 seconds |
| RetCode: 0 |
| Status: OK |
| PackageFile: seqPattern_1.12.0.zip |
| PackageFileSize: 3.538 MiB |
##############################################################################
##############################################################################
###
### Running command:
###
### rm -rf seqPattern.buildbin-libdir && mkdir seqPattern.buildbin-libdir && C:\Users\biocbuild\bbs-3.7-bioc\R\bin\R.exe CMD INSTALL --merge-multiarch --build --library=seqPattern.buildbin-libdir seqPattern_1.12.0.tar.gz
###
##############################################################################
##############################################################################
install for i386
* installing *source* package 'seqPattern' ...
** R
** data
** inst
** byte-compile and prepare package for lazy loading
** help
*** installing help indices
converting help for package 'seqPattern'
finding HTML links ... done
TBPpwm html
getPatternOccurrenceList html
finding level-2 HTML links ... done
motifScanHits html
motifScanScores html
plotMotifDensityMap html
plotMotifOccurrenceAverage html
plotMotifScanScores html
plotPatternDensityMap html
plotPatternOccurrenceAverage html
seqPattern-package html
zebrafisPromoters html
zebrafisPromoters24h html
** building package indices
** installing vignettes
** testing if installed package can be loaded
In R CMD INSTALL
install for x64
* installing *source* package 'seqPattern' ...
** testing if installed package can be loaded
* MD5 sums
packaged installation of 'seqPattern' as seqPattern_1.12.0.zip
* DONE (seqPattern)
In R CMD INSTALL
In R CMD INSTALL