| Back to Multiple platform build/check report for BioC 3.7 | 
 | 
This page was generated on 2018-10-17 08:51:44 -0400 (Wed, 17 Oct 2018).
| Package 1346/1561 | Hostname | OS / Arch | INSTALL | BUILD | CHECK | BUILD BIN | ||||||
| seqCNA 1.26.0 David Mosen-Ansorena 
 | malbec2 | Linux (Ubuntu 16.04.1 LTS) / x86_64 | OK | OK | OK |  | ||||||
| tokay2 | Windows Server 2012 R2 Standard / x64 | OK | OK | OK | OK |  | ||||||
| merida2 | OS X 10.11.6 El Capitan / x86_64 | OK | OK | WARNINGS | [ OK ] |  | 
| Package: seqCNA | 
| Version: 1.26.0 | 
| Command: rm -rf seqCNA.buildbin-libdir && mkdir seqCNA.buildbin-libdir && /Users/biocbuild/BBS/utils/build-universal.sh seqCNA_1.26.0.tar.gz /Library/Frameworks/R.framework/Versions/Current/Resources/bin/R seqCNA.buildbin-libdir | 
| StartedAt: 2018-10-17 02:07:42 -0400 (Wed, 17 Oct 2018) | 
| EndedAt: 2018-10-17 02:08:24 -0400 (Wed, 17 Oct 2018) | 
| EllapsedTime: 42.2 seconds | 
| RetCode: 0 | 
| Status: OK | 
| PackageFile: seqCNA_1.26.0.tgz | 
| PackageFileSize: 1.286 MiB | 
##############################################################################
##############################################################################
###
### Running command:
###
###   rm -rf seqCNA.buildbin-libdir && mkdir seqCNA.buildbin-libdir && /Users/biocbuild/BBS/utils/build-universal.sh seqCNA_1.26.0.tar.gz /Library/Frameworks/R.framework/Versions/Current/Resources/bin/R seqCNA.buildbin-libdir
###
##############################################################################
##############################################################################
>>>>>>> 
>>>>>>> INSTALLATION WITH 'R CMD INSTALL --preclean --no-multiarch --library=seqCNA.buildbin-libdir seqCNA_1.26.0.tar.gz'
>>>>>>> 
* installing *source* package ‘seqCNA’ ...
** libs
clang++  -I"/Library/Frameworks/R.framework/Resources/include" -DNDEBUG   -I/usr/local/include   -fPIC  -Wall -g -O2  -c seqCNA.cpp -o seqCNA.o
seqCNA.cpp:107:15: warning: comparison of unsigned expression < 0 is always false [-Wtautological-compare]
                                        if (index<0) goto next;
                                            ˜˜˜˜˜^˜
1 warning generated.
clang++ -dynamiclib -Wl,-headerpad_max_install_names -undefined dynamic_lookup -single_module -multiply_defined suppress -L/Library/Frameworks/R.framework/Resources/lib -L/usr/local/lib -o seqCNA.so seqCNA.o -F/Library/Frameworks/R.framework/.. -framework R -Wl,-framework -Wl,CoreFoundation
installing to /Users/biocbuild/bbs-3.7-bioc/meat/seqCNA.buildbin-libdir/seqCNA/libs
** R
** data
** inst
** byte-compile and prepare package for lazy loading
** help
*** installing help indices
** building package indices
** installing vignettes
** testing if installed package can be loaded
* DONE (seqCNA)
>>>>>>> 
>>>>>>> FIXING LINKS FOR seqCNA.buildbin-libdir/seqCNA/libs//seqCNA.so
>>>>>>> 
install_name_tool -change "/usr/local/lib/libgcc_s.1.dylib" "/Library/Frameworks/R.framework/Versions/3.5/Resources/lib/libgcc_s.1.dylib" "seqCNA.buildbin-libdir/seqCNA/libs//seqCNA.so"
install_name_tool -change "/usr/local/lib/libgfortran.3.dylib" "/Library/Frameworks/R.framework/Versions/3.5/Resources/lib/libgfortran.3.dylib" "seqCNA.buildbin-libdir/seqCNA/libs//seqCNA.so"
install_name_tool -change "/usr/local/lib/libreadline.5.2.dylib" "/Library/Frameworks/R.framework/Versions/3.5/Resources/lib/libreadline.5.2.dylib" "seqCNA.buildbin-libdir/seqCNA/libs//seqCNA.so"
install_name_tool -change "/usr/local/lib/libreadline.dylib" "/Library/Frameworks/R.framework/Versions/3.5/Resources/lib/libreadline.dylib" "seqCNA.buildbin-libdir/seqCNA/libs//seqCNA.so"
install_name_tool -change "/usr/local/lib/libquadmath.0.dylib" "/Library/Frameworks/R.framework/Versions/3.5/Resources/lib/libquadmath.0.dylib" "seqCNA.buildbin-libdir/seqCNA/libs//seqCNA.so"