| Back to Multiple platform build/check report for BioC 3.7 |
|
This page was generated on 2018-10-17 08:25:54 -0400 (Wed, 17 Oct 2018).
| Package 1334/1561 | Hostname | OS / Arch | INSTALL | BUILD | CHECK | BUILD BIN | ||||||
| scsR 1.16.0 Andrea Franceschini
| malbec2 | Linux (Ubuntu 16.04.1 LTS) / x86_64 | OK | OK | [ OK ] | |||||||
| tokay2 | Windows Server 2012 R2 Standard / x64 | OK | OK | OK | OK | |||||||
| merida2 | OS X 10.11.6 El Capitan / x86_64 | OK | OK | OK | OK |
| Package: scsR |
| Version: 1.16.0 |
| Command: /home/biocbuild/bbs-3.7-bioc/R/bin/R CMD check --install=check:scsR.install-out.txt --library=/home/biocbuild/bbs-3.7-bioc/R/library --no-vignettes --timings scsR_1.16.0.tar.gz |
| StartedAt: 2018-10-16 03:37:54 -0400 (Tue, 16 Oct 2018) |
| EndedAt: 2018-10-16 03:39:46 -0400 (Tue, 16 Oct 2018) |
| EllapsedTime: 112.7 seconds |
| RetCode: 0 |
| Status: OK |
| CheckDir: scsR.Rcheck |
| Warnings: 0 |
##############################################################################
##############################################################################
###
### Running command:
###
### /home/biocbuild/bbs-3.7-bioc/R/bin/R CMD check --install=check:scsR.install-out.txt --library=/home/biocbuild/bbs-3.7-bioc/R/library --no-vignettes --timings scsR_1.16.0.tar.gz
###
##############################################################################
##############################################################################
* using log directory ‘/home/biocbuild/bbs-3.7-bioc/meat/scsR.Rcheck’
* using R version 3.5.1 Patched (2018-07-12 r74967)
* using platform: x86_64-pc-linux-gnu (64-bit)
* using session charset: UTF-8
* using option ‘--no-vignettes’
* checking for file ‘scsR/DESCRIPTION’ ... OK
* checking extension type ... Package
* this is package ‘scsR’ version ‘1.16.0’
* checking package namespace information ... OK
* checking package dependencies ... NOTE
Depends: includes the non-default packages:
‘STRINGdb’ ‘BiocGenerics’ ‘Biostrings’ ‘IRanges’ ‘plyr’ ‘tcltk’
Adding so many packages to the search path is excessive and importing
selectively is preferable.
* checking if this is a source package ... OK
* checking if there is a namespace ... OK
* checking for hidden files and directories ... OK
* checking for portable file names ... OK
* checking for sufficient/correct file permissions ... OK
* checking whether package ‘scsR’ can be installed ... OK
* checking installed package size ... OK
* checking package directory ... OK
* checking ‘build’ directory ... OK
* checking DESCRIPTION meta-information ... OK
* checking top-level files ... OK
* checking for left-over files ... OK
* checking index information ... OK
* checking package subdirectories ... OK
* checking R files for non-ASCII characters ... OK
* checking R files for syntax errors ... OK
* checking whether the package can be loaded ... OK
* checking whether the package can be loaded with stated dependencies ... OK
* checking whether the package can be unloaded cleanly ... OK
* checking whether the namespace can be loaded with stated dependencies ... OK
* checking whether the namespace can be unloaded cleanly ... OK
* checking dependencies in R code ... OK
* checking S3 generic/method consistency ... OK
* checking replacement functions ... OK
* checking foreign function calls ... OK
* checking R code for possible problems ... NOTE
OPIrsaScore : <anonymous>: no visible global function definition for
‘phyper’
enrichment_geneSet: no visible global function definition for ‘phyper’
enrichment_heatmap: no visible global function definition for
‘heatmap.2’
get_seed_oligos_df: no visible global function definition for
‘txtProgressBar’
get_seed_oligos_df: no visible global function definition for
‘setTxtProgressBar’
get_seed_oligos_df: no visible global function definition for ‘phyper’
get_seed_oligos_df: no visible global function definition for ‘ks.test’
plot_seed_score_sd: no visible global function definition for ‘lm’
plot_seed_score_sd: no visible global function definition for
‘cor.test’
seed_correction: no visible global function definition for
‘txtProgressBar’
seed_correction: no visible global function definition for
‘setTxtProgressBar’
seed_correction_pooled: no visible global function definition for
‘txtProgressBar’
seed_correction_pooled: no visible global function definition for
‘setTxtProgressBar’
seed_removal: no visible global function definition for
‘txtProgressBar’
seed_removal: no visible global function definition for
‘setTxtProgressBar’
seeds_analysis : <anonymous>: no visible global function definition for
‘ks.test’
seeds_analysis: no visible global function definition for ‘phyper’
transcribe_seqs: no visible global function definition for
‘txtProgressBar’
transcribe_seqs: no visible global function definition for
‘setTxtProgressBar’
Undefined global functions or variables:
cor.test heatmap.2 ks.test lm phyper setTxtProgressBar txtProgressBar
Consider adding
importFrom("stats", "cor.test", "ks.test", "lm", "phyper")
importFrom("utils", "setTxtProgressBar", "txtProgressBar")
to your NAMESPACE file.
* checking Rd files ... OK
* checking Rd metadata ... OK
* checking Rd cross-references ... OK
* checking for missing documentation entries ... OK
* checking for code/documentation mismatches ... OK
* checking Rd \usage sections ... OK
* checking Rd contents ... OK
* checking for unstated dependencies in examples ... OK
* checking contents of ‘data’ directory ... OK
* checking data for non-ASCII characters ... OK
* checking data for ASCII and uncompressed saves ... OK
* checking files in ‘vignettes’ ... OK
* checking examples ... OK
Examples with CPU or elapsed time > 5s
user system elapsed
compare_sorted_geneSets 18.42 0.488 19.066
* checking for unstated dependencies in vignettes ... OK
* checking package vignettes in ‘inst/doc’ ... OK
* checking running R code from vignettes ... SKIPPED
* checking re-building of vignette outputs ... SKIPPED
* checking PDF version of manual ... OK
* DONE
Status: 2 NOTEs
See
‘/home/biocbuild/bbs-3.7-bioc/meat/scsR.Rcheck/00check.log’
for details.
scsR.Rcheck/00install.out
############################################################################## ############################################################################## ### ### Running command: ### ### /home/biocbuild/bbs-3.7-bioc/R/bin/R CMD INSTALL scsR ### ############################################################################## ############################################################################## * installing to library ‘/home/biocbuild/bbs-3.7-bioc/R/library’ * installing *source* package ‘scsR’ ... ** R ** data ** byte-compile and prepare package for lazy loading ** help *** installing help indices ** building package indices ** installing vignettes ** testing if installed package can be loaded * DONE (scsR)
scsR.Rcheck/scsR-Ex.timings
| name | user | system | elapsed | |
| add_rank_col | 0.436 | 0.008 | 0.449 | |
| add_seed | 0.200 | 0.008 | 0.206 | |
| benchmark_shared_hits | 1.684 | 0.044 | 1.726 | |
| bydf | 0.344 | 0.008 | 0.352 | |
| check_consistency | 1.080 | 0.012 | 1.090 | |
| compare_sorted_geneSets | 18.420 | 0.488 | 19.066 | |
| create_sd_matrix | 0.344 | 0.012 | 0.356 | |
| delColDf | 0.284 | 0.008 | 0.292 | |
| delete_undefined_rows | 0.412 | 0.004 | 0.417 | |
| enrichment_geneSet | 0.412 | 0.000 | 0.418 | |
| enrichment_heatmap | 0.368 | 0.012 | 0.380 | |
| get_sd_quant | 1.096 | 0.044 | 1.154 | |
| get_seed_oligos_df | 0.680 | 0.004 | 0.680 | |
| intersectAll | 0.000 | 0.000 | 0.001 | |
| launch_RSA | 0.380 | 0.008 | 0.390 | |
| median_replicates | 0.672 | 0.012 | 0.686 | |
| plot_screen_hits | 1.980 | 0.056 | 2.040 | |
| plot_seeds_methods | 2.340 | 0.108 | 2.451 | |
| randomSortOnVal | 0.192 | 0.000 | 0.190 | |
| randomizeInner | 0.184 | 0.004 | 0.189 | |
| removeSharedOffTargets | 0.648 | 0.020 | 0.669 | |
| renameColDf | 0.212 | 0.000 | 0.210 | |
| replace_non_null_elements | 0.188 | 0.000 | 0.189 | |
| seed_correction | 0.408 | 0.016 | 0.422 | |
| seed_correction_pooled | 0.520 | 0.008 | 0.529 | |
| seed_removal | 0.324 | 0.004 | 0.327 | |
| seeds_analysis | 1.108 | 0.028 | 1.150 | |
| sortInner | 0.256 | 0.012 | 0.270 | |
| split_df | 0.228 | 0.000 | 0.229 | |
| transcribe_seqs | 0.284 | 0.008 | 0.293 | |