| Back to Multiple platform build/check report for BioC 3.7 |
|
This page was generated on 2018-10-17 08:58:26 -0400 (Wed, 17 Oct 2018).
| Package 1331/1561 | Hostname | OS / Arch | INSTALL | BUILD | CHECK | BUILD BIN | ||||||
| scoreInvHap 1.2.1 Carlos Ruiz
| malbec2 | Linux (Ubuntu 16.04.1 LTS) / x86_64 | OK | OK | WARNINGS | |||||||
| tokay2 | Windows Server 2012 R2 Standard / x64 | OK | OK | WARNINGS | OK | |||||||
| merida2 | OS X 10.11.6 El Capitan / x86_64 | OK | OK | WARNINGS | [ OK ] |
| Package: scoreInvHap |
| Version: 1.2.1 |
| Command: rm -rf scoreInvHap.buildbin-libdir && mkdir scoreInvHap.buildbin-libdir && /Users/biocbuild/BBS/utils/build-universal.sh scoreInvHap_1.2.1.tar.gz /Library/Frameworks/R.framework/Versions/Current/Resources/bin/R scoreInvHap.buildbin-libdir |
| StartedAt: 2018-10-17 02:06:52 -0400 (Wed, 17 Oct 2018) |
| EndedAt: 2018-10-17 02:07:37 -0400 (Wed, 17 Oct 2018) |
| EllapsedTime: 44.8 seconds |
| RetCode: 0 |
| Status: OK |
| PackageFile: scoreInvHap_1.2.1.tgz |
| PackageFileSize: 1.125 MiB |
############################################################################## ############################################################################## ### ### Running command: ### ### rm -rf scoreInvHap.buildbin-libdir && mkdir scoreInvHap.buildbin-libdir && /Users/biocbuild/BBS/utils/build-universal.sh scoreInvHap_1.2.1.tar.gz /Library/Frameworks/R.framework/Versions/Current/Resources/bin/R scoreInvHap.buildbin-libdir ### ############################################################################## ############################################################################## >>>>>>> >>>>>>> INSTALLATION WITH 'R CMD INSTALL --preclean --no-multiarch --library=scoreInvHap.buildbin-libdir scoreInvHap_1.2.1.tar.gz' >>>>>>> * installing *source* package ‘scoreInvHap’ ... ** R ** data *** moving datasets to lazyload DB ** inst ** byte-compile and prepare package for lazy loading ** help *** installing help indices ** building package indices ** installing vignettes ** testing if installed package can be loaded * DONE (scoreInvHap)