| Back to Multiple platform build/check report for BioC 3.7 |
|
This page was generated on 2018-10-17 08:57:35 -0400 (Wed, 17 Oct 2018).
| Package 1329/1561 | Hostname | OS / Arch | INSTALL | BUILD | CHECK | BUILD BIN | ||||||
| scone 1.4.0 Michael Cole
| malbec2 | Linux (Ubuntu 16.04.1 LTS) / x86_64 | OK | OK | OK | |||||||
| tokay2 | Windows Server 2012 R2 Standard / x64 | OK | OK | WARNINGS | OK | |||||||
| merida2 | OS X 10.11.6 El Capitan / x86_64 | OK | OK | OK | [ OK ] |
| Package: scone |
| Version: 1.4.0 |
| Command: rm -rf scone.buildbin-libdir && mkdir scone.buildbin-libdir && /Users/biocbuild/BBS/utils/build-universal.sh scone_1.4.0.tar.gz /Library/Frameworks/R.framework/Versions/Current/Resources/bin/R scone.buildbin-libdir |
| StartedAt: 2018-10-17 02:06:46 -0400 (Wed, 17 Oct 2018) |
| EndedAt: 2018-10-17 02:07:31 -0400 (Wed, 17 Oct 2018) |
| EllapsedTime: 44.6 seconds |
| RetCode: 0 |
| Status: OK |
| PackageFile: scone_1.4.0.tgz |
| PackageFileSize: 1.191 MiB |
############################################################################## ############################################################################## ### ### Running command: ### ### rm -rf scone.buildbin-libdir && mkdir scone.buildbin-libdir && /Users/biocbuild/BBS/utils/build-universal.sh scone_1.4.0.tar.gz /Library/Frameworks/R.framework/Versions/Current/Resources/bin/R scone.buildbin-libdir ### ############################################################################## ############################################################################## >>>>>>> >>>>>>> INSTALLATION WITH 'R CMD INSTALL --preclean --no-multiarch --library=scone.buildbin-libdir scone_1.4.0.tar.gz' >>>>>>> * installing *source* package ‘scone’ ... ** R ** data ** inst ** byte-compile and prepare package for lazy loading ** help *** installing help indices ** building package indices ** installing vignettes ** testing if installed package can be loaded * DONE (scone)