| Back to Multiple platform build/check report for BioC 3.7 |
|
This page was generated on 2018-10-17 08:45:19 -0400 (Wed, 17 Oct 2018).
| Package 1327/1561 | Hostname | OS / Arch | INSTALL | BUILD | CHECK | BUILD BIN | ||||||
| scmeth 1.0.1 Divy Kangeyan
| malbec2 | Linux (Ubuntu 16.04.1 LTS) / x86_64 | OK | OK | OK | |||||||
| tokay2 | Windows Server 2012 R2 Standard / x64 | OK | OK | OK | [ OK ] | |||||||
| merida2 | OS X 10.11.6 El Capitan / x86_64 | OK | OK | OK | OK |
| Package: scmeth |
| Version: 1.0.1 |
| Command: rm -rf scmeth.buildbin-libdir && mkdir scmeth.buildbin-libdir && C:\Users\biocbuild\bbs-3.7-bioc\R\bin\R.exe CMD INSTALL --merge-multiarch --build --library=scmeth.buildbin-libdir scmeth_1.0.1.tar.gz |
| StartedAt: 2018-10-17 06:57:41 -0400 (Wed, 17 Oct 2018) |
| EndedAt: 2018-10-17 06:58:19 -0400 (Wed, 17 Oct 2018) |
| EllapsedTime: 37.2 seconds |
| RetCode: 0 |
| Status: OK |
| PackageFile: scmeth_1.0.1.zip |
| PackageFileSize: 894.7 KiB |
##############################################################################
##############################################################################
###
### Running command:
###
### rm -rf scmeth.buildbin-libdir && mkdir scmeth.buildbin-libdir && C:\Users\biocbuild\bbs-3.7-bioc\R\bin\R.exe CMD INSTALL --merge-multiarch --build --library=scmeth.buildbin-libdir scmeth_1.0.1.tar.gz
###
##############################################################################
##############################################################################
install for i386
* installing *source* package 'scmeth' ...
** R
** inst
** byte-compile and prepare package for lazy loading
** help
*** installing help indices
converting help for package 'scmeth'
finding HTML links ... done
bsConversionPlot html
chromosomeCoverage html
coverage html
cpgDensity html
cpgDiscretization html
downsample html
featureCoverage html
mbiasplot html
methylationDist html
readmetrics html
repMask html
report html
scmeth html
** building package indices
** installing vignettes
** testing if installed package can be loaded
In R CMD INSTALL
install for x64
* installing *source* package 'scmeth' ...
** testing if installed package can be loaded
* MD5 sums
packaged installation of 'scmeth' as scmeth_1.0.1.zip
* DONE (scmeth)
In R CMD INSTALL
In R CMD INSTALL