| Back to Multiple platform build/check report for BioC 3.7 |
|
This page was generated on 2018-10-17 08:45:05 -0400 (Wed, 17 Oct 2018).
| Package 1323/1561 | Hostname | OS / Arch | INSTALL | BUILD | CHECK | BUILD BIN | ||||||
| scFeatureFilter 1.0.0 Guillaume Devailly
| malbec2 | Linux (Ubuntu 16.04.1 LTS) / x86_64 | OK | OK | OK | |||||||
| tokay2 | Windows Server 2012 R2 Standard / x64 | OK | OK | OK | [ OK ] | |||||||
| merida2 | OS X 10.11.6 El Capitan / x86_64 | OK | OK | OK | OK |
| Package: scFeatureFilter |
| Version: 1.0.0 |
| Command: rm -rf scFeatureFilter.buildbin-libdir && mkdir scFeatureFilter.buildbin-libdir && C:\Users\biocbuild\bbs-3.7-bioc\R\bin\R.exe CMD INSTALL --merge-multiarch --build --library=scFeatureFilter.buildbin-libdir scFeatureFilter_1.0.0.tar.gz |
| StartedAt: 2018-10-17 06:57:27 -0400 (Wed, 17 Oct 2018) |
| EndedAt: 2018-10-17 06:57:37 -0400 (Wed, 17 Oct 2018) |
| EllapsedTime: 10.4 seconds |
| RetCode: 0 |
| Status: OK |
| PackageFile: scFeatureFilter_1.0.0.zip |
| PackageFileSize: 4.385 MiB |
##############################################################################
##############################################################################
###
### Running command:
###
### rm -rf scFeatureFilter.buildbin-libdir && mkdir scFeatureFilter.buildbin-libdir && C:\Users\biocbuild\bbs-3.7-bioc\R\bin\R.exe CMD INSTALL --merge-multiarch --build --library=scFeatureFilter.buildbin-libdir scFeatureFilter_1.0.0.tar.gz
###
##############################################################################
##############################################################################
install for i386
* installing *source* package 'scFeatureFilter' ...
** R
** data
*** moving datasets to lazyload DB
** inst
** byte-compile and prepare package for lazy loading
** help
*** installing help indices
converting help for package 'scFeatureFilter'
finding HTML links ... done
bin_scdata html
calculate_cvs html
correlate_windows html
correlations_to_densities html
finding level-2 HTML links ... done
define_top_genes html
determine_bin_cutoff html
filter_expression_table html
get_mean_median html
plot_correlations_distributions html
plot_mean_variance html
plot_metric html
plot_top_window_autocor html
scData_hESC html
sc_feature_filter html
** building package indices
** installing vignettes
** testing if installed package can be loaded
In R CMD INSTALL
install for x64
* installing *source* package 'scFeatureFilter' ...
** testing if installed package can be loaded
* MD5 sums
packaged installation of 'scFeatureFilter' as scFeatureFilter_1.0.0.zip
* DONE (scFeatureFilter)
In R CMD INSTALL
In R CMD INSTALL