| Back to Multiple platform build/check report for BioC 3.7 |
|
This page was generated on 2018-10-17 08:21:25 -0400 (Wed, 17 Oct 2018).
| Package 1306/1561 | Hostname | OS / Arch | INSTALL | BUILD | CHECK | BUILD BIN | ||||||
| safe 3.20.0 William T. Barry
| malbec2 | Linux (Ubuntu 16.04.1 LTS) / x86_64 | OK | [ OK ] | OK | |||||||
| tokay2 | Windows Server 2012 R2 Standard / x64 | OK | OK | OK | OK | |||||||
| merida2 | OS X 10.11.6 El Capitan / x86_64 | OK | OK | OK | OK |
| Package: safe |
| Version: 3.20.0 |
| Command: /home/biocbuild/bbs-3.7-bioc/R/bin/R CMD build --keep-empty-dirs --no-resave-data safe |
| StartedAt: 2018-10-15 18:45:17 -0400 (Mon, 15 Oct 2018) |
| EndedAt: 2018-10-15 18:48:48 -0400 (Mon, 15 Oct 2018) |
| EllapsedTime: 211.7 seconds |
| RetCode: 0 |
| Status: OK |
| PackageFile: safe_3.20.0.tar.gz |
| PackageFileSize: 565.1 KiB |
############################################################################## ############################################################################## ### ### Running command: ### ### /home/biocbuild/bbs-3.7-bioc/R/bin/R CMD build --keep-empty-dirs --no-resave-data safe ### ############################################################################## ############################################################################## * checking for file ‘safe/DESCRIPTION’ ... OK * preparing ‘safe’: * checking DESCRIPTION meta-information ... OK * installing the package to build vignettes * creating vignettes ... OK * checking for LF line-endings in source and make files and shell scripts * checking for empty or unneeded directories * looking to see if a ‘data/datalist’ file should be added * building ‘safe_3.20.0.tar.gz’