| Back to Multiple platform build/check report for BioC 3.7 |
|
This page was generated on 2018-10-17 08:35:00 -0400 (Wed, 17 Oct 2018).
| Package 1260/1561 | Hostname | OS / Arch | INSTALL | BUILD | CHECK | BUILD BIN | ||||||
| rnaSeqMap 2.38.0 Michal Okoniewski
| malbec2 | Linux (Ubuntu 16.04.1 LTS) / x86_64 | OK | OK | OK | |||||||
| tokay2 | Windows Server 2012 R2 Standard / x64 | OK | OK | [ OK ] | OK | |||||||
| merida2 | OS X 10.11.6 El Capitan / x86_64 | OK | OK | OK | OK |
| Package: rnaSeqMap |
| Version: 2.38.0 |
| Command: C:\Users\biocbuild\bbs-3.7-bioc\R\bin\R.exe CMD check --force-multiarch --install=check:rnaSeqMap.install-out.txt --library=C:\Users\biocbuild\bbs-3.7-bioc\R\library --no-vignettes --timings rnaSeqMap_2.38.0.tar.gz |
| StartedAt: 2018-10-17 04:29:39 -0400 (Wed, 17 Oct 2018) |
| EndedAt: 2018-10-17 04:33:57 -0400 (Wed, 17 Oct 2018) |
| EllapsedTime: 257.8 seconds |
| RetCode: 0 |
| Status: OK |
| CheckDir: rnaSeqMap.Rcheck |
| Warnings: 0 |
##############################################################################
##############################################################################
###
### Running command:
###
### C:\Users\biocbuild\bbs-3.7-bioc\R\bin\R.exe CMD check --force-multiarch --install=check:rnaSeqMap.install-out.txt --library=C:\Users\biocbuild\bbs-3.7-bioc\R\library --no-vignettes --timings rnaSeqMap_2.38.0.tar.gz
###
##############################################################################
##############################################################################
* using log directory 'C:/Users/biocbuild/bbs-3.7-bioc/meat/rnaSeqMap.Rcheck'
* using R version 3.5.1 Patched (2018-07-24 r75005)
* using platform: x86_64-w64-mingw32 (64-bit)
* using session charset: ISO8859-1
* using option '--no-vignettes'
* checking for file 'rnaSeqMap/DESCRIPTION' ... OK
* checking extension type ... Package
* this is package 'rnaSeqMap' version '2.38.0'
* checking package namespace information ... OK
* checking package dependencies ... OK
* checking if this is a source package ... OK
* checking if there is a namespace ... OK
* checking for hidden files and directories ... OK
* checking for portable file names ... OK
* checking whether package 'rnaSeqMap' can be installed ... OK
* checking installed package size ... OK
* checking package directory ... OK
* checking 'build' directory ... OK
* checking DESCRIPTION meta-information ... NOTE
Malformed Description field: should contain one or more complete sentences.
* checking top-level files ... OK
* checking for left-over files ... OK
* checking index information ... OK
* checking package subdirectories ... OK
* checking R files for non-ASCII characters ... OK
* checking R files for syntax errors ... OK
* loading checks for arch 'i386'
** checking whether the package can be loaded ... OK
** checking whether the package can be loaded with stated dependencies ... OK
** checking whether the package can be unloaded cleanly ... OK
** checking whether the namespace can be loaded with stated dependencies ... OK
** checking whether the namespace can be unloaded cleanly ... OK
* loading checks for arch 'x64'
** checking whether the package can be loaded ... OK
** checking whether the package can be loaded with stated dependencies ... OK
** checking whether the package can be unloaded cleanly ... OK
** checking whether the namespace can be loaded with stated dependencies ... OK
** checking whether the namespace can be unloaded cleanly ... OK
* checking dependencies in R code ... NOTE
Namespace in Imports field not imported from: 'DBI'
All declared Imports should be used.
There are ::: calls to the package's namespace in its code. A package
almost never needs to use ::: for its own objects:
'.chr.convert' '.countz' '.munion' '.tunion' '.wytnij' 'getBamData'
'newSeqReads'
* checking S3 generic/method consistency ... OK
* checking replacement functions ... OK
* checking foreign function calls ... OK
* checking R code for possible problems ... NOTE
.exonCoverage: no visible global function definition for 'exon.details'
.fillRleList: no visible global function definition for 'Rle'
.geneCoverage: no visible global function definition for 'gene.details'
.munion: no visible global function definition for 'exon.details'
.munion: no visible global function definition for 'gene.to.exon'
.rsCount: no visible global function definition for 'gene.details'
.simplePlot: no visible global function definition for 'plot'
.simplePlot: no visible global function definition for 'lines'
.tunion: no visible global function definition for 'exon.details'
.tunion: no visible global function definition for 'transcript.to.exon'
addBamData: no visible global function definition for 'phenoData'
addBamData: no visible global function definition for 'phenoData<-'
averageND: no visible global function definition for 'Rle'
bam2sig: no visible global function definition for 'dbGetQuery'
bam2sig: no visible global function definition for 'read.table'
combineND: no visible global function definition for 'Rle'
distrCOVPlot: no visible global function definition for 'topo.colors'
distrCOVPlot: no visible global function definition for 'par'
distrCOVPlot: no visible global function definition for 'plot'
distrCOVPlot: no visible global function definition for 'lines'
distrCOVPlot: no visible global function definition for 'legend'
distrCOVPlot: no visible global function definition for 'gene.details'
distrCOVPlot: no visible global function definition for
'gene.to.transcript'
distrCOVPlot: no visible global function definition for 'exon.details'
distrCOVPlot: no visible global function definition for
'transcript.to.exon'
distrCOVPlot: no visible global function definition for 'rect'
distrCOVPlotg: no visible global function definition for 'topo.colors'
distrCOVPlotg: no visible global function definition for 'par'
distrCOVPlotg: no visible global function definition for 'gene.details'
distrCOVPlotg: no visible global function definition for 'exon.details'
distrCOVPlotg: no visible global function definition for 'gene.to.exon'
distrCOVPlotg: no visible global function definition for 'plot'
distrCOVPlotg: no visible global function definition for 'lines'
distrCOVPlotg: no visible global function definition for 'legend'
distrCOVPlotg: no visible global function definition for
'gene.to.transcript'
distrCOVPlotg: no visible global function definition for
'transcript.to.exon'
distrCOVPlotg: no visible global function definition for 'rect'
distrSIPlot: no visible global function definition for 'par'
distrSIPlot: no visible global function definition for 'plot'
distrSIPlot: no visible global function definition for 'lines'
distrSIPlot: no visible global function definition for 'legend'
generatorAdd: no visible global function definition for 'Rle'
generatorAddSquare: no visible global function definition for 'Rle'
generatorMultiply: no visible global function definition for 'Rle'
generatorPeak: no visible global function definition for 'Rle'
generatorSynth: no visible global function definition for 'Rle'
getBamData: no visible global function definition for 'read.table'
getCoverageFromRS: no visible global function definition for
'phenoData'
getSIFromND: no visible global function definition for 'Rle'
ks_test: no visible global function definition for 'ks.test'
newSeqReads: no visible global function definition for 'read.table'
newSeqReadsFromGene: no visible global function definition for
'gene.details'
parseGff3: no visible global function definition for 'read.table'
parseGff3: no visible global function definition for 'write.table'
plotCoverageHistogram: no visible global function definition for 'plot'
plotCoverageHistogram: no visible global function definition for
'lines'
plotExonCoverage: no visible global function definition for
'topo.colors'
plotExonCoverage: no visible global function definition for
'exon.details'
plotExonCoverage: no visible global function definition for 'par'
plotExonCoverage: no visible global function definition for 'plot'
plotExonCoverage: no visible global function definition for 'lines'
plotExonCoverage: no visible global function definition for 'legend'
plotGeneCoverage: no visible global function definition for 'par'
plotGeneCoverage: no visible global function definition for
'topo.colors'
plotGeneCoverage: no visible global function definition for
'gene.details'
plotGeneCoverage: no visible global function definition for 'plot'
plotGeneCoverage: no visible global function definition for 'lines'
plotGeneCoverage: no visible global function definition for 'legend'
plotGeneExonCoverage: no visible global function definition for 'par'
plotGeneExonCoverage: no visible global function definition for
'topo.colors'
plotGeneExonCoverage: no visible global function definition for
'gene.details'
plotGeneExonCoverage: no visible global function definition for
'exon.details'
plotGeneExonCoverage: no visible global function definition for
'gene.to.exon'
plotGeneExonCoverage: no visible global function definition for 'plot'
plotGeneExonCoverage: no visible global function definition for 'lines'
plotGeneExonCoverage: no visible global function definition for 'rect'
plotGeneExonCoverage: no visible global function definition for
'legend'
plotRegionCoverage: no visible global function definition for
'topo.colors'
plotRegionCoverage: no visible global function definition for 'par'
plotRegionCoverage: no visible global function definition for 'plot'
plotRegionCoverage: no visible global function definition for 'lines'
plotSI: no visible global function definition for 'plot'
plotSI: no visible global function definition for 'lines'
plotSI: no visible global function definition for 'legend'
qq_derivative_plot: no visible global function definition for 'qqplot'
qq_plot: no visible global function definition for 'qqplot'
setSpecies: no visible global function definition for 'menu'
simplePlot: no visible global function definition for 'plot'
simplePlot: no visible global function definition for 'lines'
spaceInChromosome: no visible binding for global variable 'out'
sumND: no visible global function definition for 'Rle'
Undefined global functions or variables:
Rle dbGetQuery exon.details gene.details gene.to.exon
gene.to.transcript ks.test legend lines menu out par phenoData
phenoData<- plot qqplot read.table rect topo.colors
transcript.to.exon write.table
Consider adding
importFrom("grDevices", "topo.colors")
importFrom("graphics", "legend", "lines", "par", "plot", "rect")
importFrom("stats", "ks.test", "qqplot")
importFrom("utils", "menu", "read.table", "write.table")
to your NAMESPACE file.
* checking Rd files ... OK
* checking Rd metadata ... OK
* checking Rd cross-references ... OK
* checking for missing documentation entries ... OK
* checking for code/documentation mismatches ... OK
* checking Rd \usage sections ... OK
* checking Rd contents ... OK
* checking for unstated dependencies in examples ... OK
* checking contents of 'data' directory ... OK
* checking data for non-ASCII characters ... OK
* checking data for ASCII and uncompressed saves ... OK
* checking line endings in C/C++/Fortran sources/headers ... OK
* checking compiled code ... NOTE
Note: information on .o files for i386 is not available
Note: information on .o files for x64 is not available
File 'C:/Users/biocbuild/bbs-3.7-bioc/R/library/rnaSeqMap/libs/i386/rnaSeqMap.dll':
Found 'abort', possibly from 'abort' (C), 'runtime' (Fortran)
Compiled code should not call entry points which might terminate R nor
write to stdout/stderr instead of to the console, nor use Fortran I/O
nor system RNGs. The detected symbols are linked into the code but
might come from libraries and not actually be called.
See 'Writing portable packages' in the 'Writing R Extensions' manual.
* checking files in 'vignettes' ... OK
* checking examples ...
** running examples for arch 'i386' ... OK
** running examples for arch 'x64' ... OK
* checking for unstated dependencies in vignettes ... OK
* checking package vignettes in 'inst/doc' ... OK
* checking running R code from vignettes ... SKIPPED
* checking re-building of vignette outputs ... SKIPPED
* checking PDF version of manual ... OK
* DONE
Status: 4 NOTEs
See
'C:/Users/biocbuild/bbs-3.7-bioc/meat/rnaSeqMap.Rcheck/00check.log'
for details.
rnaSeqMap.Rcheck/00install.out
##############################################################################
##############################################################################
###
### Running command:
###
### C:\cygwin\bin\curl.exe -O https://malbec2.bioconductor.org/BBS/3.7/bioc/src/contrib/rnaSeqMap_2.38.0.tar.gz && rm -rf rnaSeqMap.buildbin-libdir && mkdir rnaSeqMap.buildbin-libdir && C:\Users\biocbuild\bbs-3.7-bioc\R\bin\R.exe CMD INSTALL --merge-multiarch --build --library=rnaSeqMap.buildbin-libdir rnaSeqMap_2.38.0.tar.gz && C:\Users\biocbuild\bbs-3.7-bioc\R\bin\R.exe CMD INSTALL rnaSeqMap_2.38.0.zip && rm rnaSeqMap_2.38.0.tar.gz rnaSeqMap_2.38.0.zip
###
##############################################################################
##############################################################################
% Total % Received % Xferd Average Speed Time Time Time Current
Dload Upload Total Spent Left Speed
0 0 0 0 0 0 0 0 --:--:-- --:--:-- --:--:-- 0
100 707k 100 707k 0 0 11.3M 0 --:--:-- --:--:-- --:--:-- 12.5M
install for i386
* installing *source* package 'rnaSeqMap' ...
** libs
C:/Rtools/mingw_32/bin/gcc -I"C:/Users/BIOCBU˜1/BBS-3˜1.7-B/R/include" -DNDEBUG -I"C:/extsoft/include" -O3 -Wall -std=gnu99 -mtune=generic -c Rinit.c -o Rinit.o
C:/Rtools/mingw_32/bin/gcc -I"C:/Users/BIOCBU˜1/BBS-3˜1.7-B/R/include" -DNDEBUG -I"C:/extsoft/include" -O3 -Wall -std=gnu99 -mtune=generic -c gcoverage.c -o gcoverage.o
gcoverage.c: In function 'gcoverage':
gcoverage.c:7:31: warning: variable 'nc' set but not used [-Wunused-but-set-variable]
int start, i, j, na, nb, nc, nwyn;
^
C:/Rtools/mingw_32/bin/gcc -I"C:/Users/BIOCBU˜1/BBS-3˜1.7-B/R/include" -DNDEBUG -I"C:/extsoft/include" -O3 -Wall -std=gnu99 -mtune=generic -c ghistogram.c -o ghistogram.o
ghistogram.c: In function 'ghistogram':
ghistogram.c:9:10: warning: variable 'xa' set but not used [-Wunused-but-set-variable]
int *xa, *xb, *xab;
^
ghistogram.c:8:20: warning: variable 'nb' set but not used [-Wunused-but-set-variable]
int i, j, l , na, nb, nab, Is;
^
C:/Rtools/mingw_32/bin/gcc -I"C:/Users/BIOCBU˜1/BBS-3˜1.7-B/R/include" -DNDEBUG -I"C:/extsoft/include" -O3 -Wall -std=gnu99 -mtune=generic -c regionmining.c -o regionmining.o
regionmining.c: In function 'regionmining':
regionmining.c:22:18: warning: variable 'start' set but not used [-Wunused-but-set-variable]
int current, start, param, minsup,*xwyn;
^
C:/Rtools/mingw_32/bin/gcc -I"C:/Users/BIOCBU˜1/BBS-3˜1.7-B/R/include" -DNDEBUG -I"C:/extsoft/include" -O3 -Wall -std=gnu99 -mtune=generic -c splicingind.c -o splicingind.o
splicingind.c: In function 'splicingind':
splicingind.c:8:13: warning: variable 'nb' set but not used [-Wunused-but-set-variable]
int j, na, nb, nab;
^
C:/Rtools/mingw_32/bin/gcc -shared -s -static-libgcc -o rnaSeqMap.dll tmp.def Rinit.o gcoverage.o ghistogram.o regionmining.o splicingind.o -LC:/extsoft/lib/i386 -LC:/extsoft/lib -LC:/Users/BIOCBU˜1/BBS-3˜1.7-B/R/bin/i386 -lR
installing to C:/Users/biocbuild/bbs-3.7-bioc/meat/rnaSeqMap.buildbin-libdir/rnaSeqMap/libs/i386
** R
** data
** inst
** byte-compile and prepare package for lazy loading
** help
*** installing help indices
converting help for package 'rnaSeqMap'
finding HTML links ... done
NDplots html
NucleotideDistr-class html
RleList2matrix html
SeqReds html
addBamData html
addDataToReadset html
addExperimentsToReadset html
averageND html
bam2sig html
buildDESeq html
buildDGEList html
findRegionsAsIR html
findRegionsAsND html
fiveCol2GRanges html
gRanges2CamelMeasures html
geneInChromosome html
generators html
getBamData html
getCoverageFromRS html
getData html
getExpDescription html
getFCFromND html
getSIFromND html
getSumsExp html
measures html
normalizations html
normalizeBySum html
parseGff3 html
plotGeneCoverage html
readsInRange html
regionBasedCoverage html
regionCoverage html
rs.list html
setData html
setSAXPYData html
setSpecies html
simplePlot html
spaceInChromosome html
** building package indices
** installing vignettes
** testing if installed package can be loaded
In R CMD INSTALL
install for x64
* installing *source* package 'rnaSeqMap' ...
** libs
C:/Rtools/mingw_64/bin/gcc -I"C:/Users/BIOCBU˜1/BBS-3˜1.7-B/R/include" -DNDEBUG -I"C:/extsoft/include" -O2 -Wall -std=gnu99 -mtune=generic -c Rinit.c -o Rinit.o
C:/Rtools/mingw_64/bin/gcc -I"C:/Users/BIOCBU˜1/BBS-3˜1.7-B/R/include" -DNDEBUG -I"C:/extsoft/include" -O2 -Wall -std=gnu99 -mtune=generic -c gcoverage.c -o gcoverage.o
gcoverage.c: In function 'gcoverage':
gcoverage.c:7:31: warning: variable 'nc' set but not used [-Wunused-but-set-variable]
int start, i, j, na, nb, nc, nwyn;
^
C:/Rtools/mingw_64/bin/gcc -I"C:/Users/BIOCBU˜1/BBS-3˜1.7-B/R/include" -DNDEBUG -I"C:/extsoft/include" -O2 -Wall -std=gnu99 -mtune=generic -c ghistogram.c -o ghistogram.o
ghistogram.c: In function 'ghistogram':
ghistogram.c:9:10: warning: variable 'xa' set but not used [-Wunused-but-set-variable]
int *xa, *xb, *xab;
^
ghistogram.c:8:20: warning: variable 'nb' set but not used [-Wunused-but-set-variable]
int i, j, l , na, nb, nab, Is;
^
C:/Rtools/mingw_64/bin/gcc -I"C:/Users/BIOCBU˜1/BBS-3˜1.7-B/R/include" -DNDEBUG -I"C:/extsoft/include" -O2 -Wall -std=gnu99 -mtune=generic -c regionmining.c -o regionmining.o
regionmining.c: In function 'regionmining':
regionmining.c:22:18: warning: variable 'start' set but not used [-Wunused-but-set-variable]
int current, start, param, minsup,*xwyn;
^
C:/Rtools/mingw_64/bin/gcc -I"C:/Users/BIOCBU˜1/BBS-3˜1.7-B/R/include" -DNDEBUG -I"C:/extsoft/include" -O2 -Wall -std=gnu99 -mtune=generic -c splicingind.c -o splicingind.o
splicingind.c: In function 'splicingind':
splicingind.c:8:13: warning: variable 'nb' set but not used [-Wunused-but-set-variable]
int j, na, nb, nab;
^
C:/Rtools/mingw_64/bin/gcc -shared -s -static-libgcc -o rnaSeqMap.dll tmp.def Rinit.o gcoverage.o ghistogram.o regionmining.o splicingind.o -LC:/extsoft/lib/x64 -LC:/extsoft/lib -LC:/Users/BIOCBU˜1/BBS-3˜1.7-B/R/bin/x64 -lR
installing to C:/Users/biocbuild/bbs-3.7-bioc/meat/rnaSeqMap.buildbin-libdir/rnaSeqMap/libs/x64
** testing if installed package can be loaded
* MD5 sums
packaged installation of 'rnaSeqMap' as rnaSeqMap_2.38.0.zip
* DONE (rnaSeqMap)
In R CMD INSTALL
In R CMD INSTALL
* installing to library 'C:/Users/biocbuild/bbs-3.7-bioc/R/library'
package 'rnaSeqMap' successfully unpacked and MD5 sums checked
In R CMD INSTALL
|
rnaSeqMap.Rcheck/examples_i386/rnaSeqMap-Ex.timings
|
rnaSeqMap.Rcheck/examples_x64/rnaSeqMap-Ex.timings
|