| Back to Multiple platform build/check report for BioC 3.7 |
|
This page was generated on 2018-10-17 08:39:59 -0400 (Wed, 17 Oct 2018).
| Package 1233/1561 | Hostname | OS / Arch | INSTALL | BUILD | CHECK | BUILD BIN | ||||||
| rGREAT 1.12.1 Zuguang Gu
| malbec2 | Linux (Ubuntu 16.04.1 LTS) / x86_64 | OK | OK | WARNINGS | |||||||
| tokay2 | Windows Server 2012 R2 Standard / x64 | OK | OK | WARNINGS | [ OK ] | |||||||
| merida2 | OS X 10.11.6 El Capitan / x86_64 | OK | OK | WARNINGS | OK |
| Package: rGREAT |
| Version: 1.12.1 |
| Command: rm -rf rGREAT.buildbin-libdir && mkdir rGREAT.buildbin-libdir && C:\Users\biocbuild\bbs-3.7-bioc\R\bin\R.exe CMD INSTALL --merge-multiarch --build --library=rGREAT.buildbin-libdir rGREAT_1.12.1.tar.gz |
| StartedAt: 2018-10-17 06:53:41 -0400 (Wed, 17 Oct 2018) |
| EndedAt: 2018-10-17 06:53:53 -0400 (Wed, 17 Oct 2018) |
| EllapsedTime: 12.5 seconds |
| RetCode: 0 |
| Status: OK |
| PackageFile: rGREAT_1.12.1.zip |
| PackageFileSize: 903.7 KiB |
##############################################################################
##############################################################################
###
### Running command:
###
### rm -rf rGREAT.buildbin-libdir && mkdir rGREAT.buildbin-libdir && C:\Users\biocbuild\bbs-3.7-bioc\R\bin\R.exe CMD INSTALL --merge-multiarch --build --library=rGREAT.buildbin-libdir rGREAT_1.12.1.tar.gz
###
##############################################################################
##############################################################################
install for i386
* installing *source* package 'rGREAT' ...
** R
** inst
** byte-compile and prepare package for lazy loading
** help
*** installing help indices
converting help for package 'rGREAT'
finding HTML links ... done
GreatJob-class html
availableCategories-GreatJob-method html
availableOntologies-GreatJob-method html
getEnrichmentTables-GreatJob-method html
plotRegionGeneAssociationGraphs-GreatJob-method
html
Rd warning: C:/Users/biocbuild/bbs-3.7-bioc/tmpdir/RtmpKo719F/R.INSTALL2b3c7f1859a8/rGREAT/man/plotRegionGeneAssociationGraphs-GreatJob-method.rd:39: file link 'GRanges' in package 'GenomicRanges' does not exist and so has been treated as a topic
submitGreatJob html
Rd warning: C:/Users/biocbuild/bbs-3.7-bioc/tmpdir/RtmpKo719F/R.INSTALL2b3c7f1859a8/rGREAT/man/submitGreatJob.rd:26: file link 'GRanges' in package 'GenomicRanges' does not exist and so has been treated as a topic
Rd warning: C:/Users/biocbuild/bbs-3.7-bioc/tmpdir/RtmpKo719F/R.INSTALL2b3c7f1859a8/rGREAT/man/submitGreatJob.rd:27: file link 'GRanges' in package 'GenomicRanges' does not exist and so has been treated as a topic
** building package indices
** installing vignettes
** testing if installed package can be loaded
In R CMD INSTALL
install for x64
* installing *source* package 'rGREAT' ...
** testing if installed package can be loaded
* MD5 sums
packaged installation of 'rGREAT' as rGREAT_1.12.1.zip
* DONE (rGREAT)
In R CMD INSTALL
In R CMD INSTALL