| Back to Multiple platform build/check report for BioC 3.7 |
|
This page was generated on 2018-10-17 08:29:11 -0400 (Wed, 17 Oct 2018).
| Package 1204/1561 | Hostname | OS / Arch | INSTALL | BUILD | CHECK | BUILD BIN | ||||||
| rDGIdb 1.6.0 Thomas Thurnherr
| malbec2 | Linux (Ubuntu 16.04.1 LTS) / x86_64 | OK | [ OK ] | OK | |||||||
| tokay2 | Windows Server 2012 R2 Standard / x64 | OK | OK | OK | OK | |||||||
| merida2 | OS X 10.11.6 El Capitan / x86_64 | OK | OK | OK | OK |
| Package: rDGIdb |
| Version: 1.6.0 |
| Command: /home/biocbuild/bbs-3.7-bioc/R/bin/R CMD build --keep-empty-dirs --no-resave-data rDGIdb |
| StartedAt: 2018-10-15 21:10:07 -0400 (Mon, 15 Oct 2018) |
| EndedAt: 2018-10-15 21:10:19 -0400 (Mon, 15 Oct 2018) |
| EllapsedTime: 12.0 seconds |
| RetCode: 0 |
| Status: OK |
| PackageFile: rDGIdb_1.6.0.tar.gz |
| PackageFileSize: 180 KiB |
############################################################################## ############################################################################## ### ### Running command: ### ### /home/biocbuild/bbs-3.7-bioc/R/bin/R CMD build --keep-empty-dirs --no-resave-data rDGIdb ### ############################################################################## ############################################################################## * checking for file ‘rDGIdb/DESCRIPTION’ ... OK * preparing ‘rDGIdb’: * checking DESCRIPTION meta-information ... OK * installing the package to build vignettes * creating vignettes ... OK * checking for LF line-endings in source and make files and shell scripts * checking for empty or unneeded directories * building ‘rDGIdb_1.6.0.tar.gz’