| Back to Multiple platform build/check report for BioC 3.7 |
|
This page was generated on 2018-10-17 08:27:49 -0400 (Wed, 17 Oct 2018).
| Package 1196/1561 | Hostname | OS / Arch | INSTALL | BUILD | CHECK | BUILD BIN | ||||||
| rCGH 1.10.0 Frederic Commo
| malbec2 | Linux (Ubuntu 16.04.1 LTS) / x86_64 | OK | [ OK ] | OK | |||||||
| tokay2 | Windows Server 2012 R2 Standard / x64 | OK | OK | WARNINGS | OK | |||||||
| merida2 | OS X 10.11.6 El Capitan / x86_64 | OK | OK | OK | OK |
| Package: rCGH |
| Version: 1.10.0 |
| Command: /home/biocbuild/bbs-3.7-bioc/R/bin/R CMD build --keep-empty-dirs --no-resave-data rCGH |
| StartedAt: 2018-10-15 20:35:30 -0400 (Mon, 15 Oct 2018) |
| EndedAt: 2018-10-15 20:36:44 -0400 (Mon, 15 Oct 2018) |
| EllapsedTime: 74.5 seconds |
| RetCode: 0 |
| Status: OK |
| PackageFile: rCGH_1.10.0.tar.gz |
| PackageFileSize: 3.959 MiB |
##############################################################################
##############################################################################
###
### Running command:
###
### /home/biocbuild/bbs-3.7-bioc/R/bin/R CMD build --keep-empty-dirs --no-resave-data rCGH
###
##############################################################################
##############################################################################
* checking for file ‘rCGH/DESCRIPTION’ ... OK
* preparing ‘rCGH’:
* checking DESCRIPTION meta-information ... OK
* installing the package to build vignettes
* creating vignettes ... OK
Warning: ‘inst/doc’ files
‘rCGH.Rnw’, ‘rCGH.pdf’, ‘rCGH.R’
ignored as vignettes have been rebuilt.
Run R CMD build with --no-build-vignettes to prevent rebuilding.
* checking for LF line-endings in source and make files and shell scripts
* checking for empty or unneeded directories
* looking to see if a ‘data/datalist’ file should be added
* building ‘rCGH_1.10.0.tar.gz’