| Back to Multiple platform build/check report for BioC 3.7 |
|
This page was generated on 2018-10-17 08:53:24 -0400 (Wed, 17 Oct 2018).
| Package 1162/1561 | Hostname | OS / Arch | INSTALL | BUILD | CHECK | BUILD BIN | ||||||
| quantro 1.14.0 Stephanie Hicks
| malbec2 | Linux (Ubuntu 16.04.1 LTS) / x86_64 | OK | OK | OK | |||||||
| tokay2 | Windows Server 2012 R2 Standard / x64 | OK | OK | OK | OK | |||||||
| merida2 | OS X 10.11.6 El Capitan / x86_64 | OK | [ OK ] | OK | OK |
| Package: quantro |
| Version: 1.14.0 |
| Command: /Library/Frameworks/R.framework/Versions/Current/Resources/bin/R CMD build --keep-empty-dirs --no-resave-data quantro |
| StartedAt: 2018-10-16 17:34:00 -0400 (Tue, 16 Oct 2018) |
| EndedAt: 2018-10-16 17:35:53 -0400 (Tue, 16 Oct 2018) |
| EllapsedTime: 113.1 seconds |
| RetCode: 0 |
| Status: OK |
| PackageFile: quantro_1.14.0.tar.gz |
| PackageFileSize: 2.53 MiB |
##############################################################################
##############################################################################
###
### Running command:
###
### /Library/Frameworks/R.framework/Versions/Current/Resources/bin/R CMD build --keep-empty-dirs --no-resave-data quantro
###
##############################################################################
##############################################################################
* checking for file ‘quantro/DESCRIPTION’ ... OK
* preparing ‘quantro’:
* checking DESCRIPTION meta-information ... OK
* installing the package to build vignettes
* creating vignettes ... OK
Warning: ‘inst/doc’ file
‘quantro-vignette.pdf’
ignored as vignettes have been rebuilt.
Run R CMD build with --no-build-vignettes to prevent rebuilding.
* checking for LF line-endings in source and make files and shell scripts
* checking for empty or unneeded directories
* looking to see if a ‘data/datalist’ file should be added
* building ‘quantro_1.14.0.tar.gz’