| Back to Multiple platform build/check report for BioC 3.7 |
|
This page was generated on 2018-10-17 08:54:51 -0400 (Wed, 17 Oct 2018).
| Package 1154/1561 | Hostname | OS / Arch | INSTALL | BUILD | CHECK | BUILD BIN | ||||||
| pwOmics 1.12.0 Maren Sitte
| malbec2 | Linux (Ubuntu 16.04.1 LTS) / x86_64 | OK | OK | OK | |||||||
| tokay2 | Windows Server 2012 R2 Standard / x64 | OK | OK | OK | OK | |||||||
| merida2 | OS X 10.11.6 El Capitan / x86_64 | OK | OK | OK | [ OK ] |
| Package: pwOmics |
| Version: 1.12.0 |
| Command: rm -rf pwOmics.buildbin-libdir && mkdir pwOmics.buildbin-libdir && /Users/biocbuild/BBS/utils/build-universal.sh pwOmics_1.12.0.tar.gz /Library/Frameworks/R.framework/Versions/Current/Resources/bin/R pwOmics.buildbin-libdir |
| StartedAt: 2018-10-17 01:54:37 -0400 (Wed, 17 Oct 2018) |
| EndedAt: 2018-10-17 01:55:27 -0400 (Wed, 17 Oct 2018) |
| EllapsedTime: 50.5 seconds |
| RetCode: 0 |
| Status: OK |
| PackageFile: pwOmics_1.12.0.tgz |
| PackageFileSize: 1.132 MiB |
############################################################################## ############################################################################## ### ### Running command: ### ### rm -rf pwOmics.buildbin-libdir && mkdir pwOmics.buildbin-libdir && /Users/biocbuild/BBS/utils/build-universal.sh pwOmics_1.12.0.tar.gz /Library/Frameworks/R.framework/Versions/Current/Resources/bin/R pwOmics.buildbin-libdir ### ############################################################################## ############################################################################## >>>>>>> >>>>>>> INSTALLATION WITH 'R CMD INSTALL --preclean --no-multiarch --library=pwOmics.buildbin-libdir pwOmics_1.12.0.tar.gz' >>>>>>> * installing *source* package ‘pwOmics’ ... ** R ** data ** inst ** byte-compile and prepare package for lazy loading ** help *** installing help indices ** building package indices ** testing if installed package can be loaded * DONE (pwOmics)