| Back to Multiple platform build/check report for BioC 3.7 |
|
This page was generated on 2018-10-17 08:40:16 -0400 (Wed, 17 Oct 2018).
| Package 1109/1561 | Hostname | OS / Arch | INSTALL | BUILD | CHECK | BUILD BIN | ||||||
| pmm 1.12.0 Anna Drewek
| malbec2 | Linux (Ubuntu 16.04.1 LTS) / x86_64 | OK | OK | OK | |||||||
| tokay2 | Windows Server 2012 R2 Standard / x64 | OK | OK | OK | [ OK ] | |||||||
| merida2 | OS X 10.11.6 El Capitan / x86_64 | OK | OK | OK | OK |
| Package: pmm |
| Version: 1.12.0 |
| Command: rm -rf pmm.buildbin-libdir && mkdir pmm.buildbin-libdir && C:\Users\biocbuild\bbs-3.7-bioc\R\bin\R.exe CMD INSTALL --merge-multiarch --build --library=pmm.buildbin-libdir pmm_1.12.0.tar.gz |
| StartedAt: 2018-10-17 06:48:07 -0400 (Wed, 17 Oct 2018) |
| EndedAt: 2018-10-17 06:48:23 -0400 (Wed, 17 Oct 2018) |
| EllapsedTime: 16.2 seconds |
| RetCode: 0 |
| Status: OK |
| PackageFile: pmm_1.12.0.zip |
| PackageFileSize: 736.1 KiB |
##############################################################################
##############################################################################
###
### Running command:
###
### rm -rf pmm.buildbin-libdir && mkdir pmm.buildbin-libdir && C:\Users\biocbuild\bbs-3.7-bioc\R\bin\R.exe CMD INSTALL --merge-multiarch --build --library=pmm.buildbin-libdir pmm_1.12.0.tar.gz
###
##############################################################################
##############################################################################
install for i386
* installing *source* package 'pmm' ...
** R
** data
** inst
** byte-compile and prepare package for lazy loading
** help
*** installing help indices
converting help for package 'pmm'
finding HTML links ... done
hitheatmap html
kinome html
pmm-package html
pmm html
sharedness html
** building package indices
** installing vignettes
** testing if installed package can be loaded
In R CMD INSTALL
install for x64
* installing *source* package 'pmm' ...
** testing if installed package can be loaded
* MD5 sums
packaged installation of 'pmm' as pmm_1.12.0.zip
* DONE (pmm)
In R CMD INSTALL
In R CMD INSTALL