| Back to Multiple platform build/check report for BioC 3.7 |
|
This page was generated on 2018-10-17 08:51:02 -0400 (Wed, 17 Oct 2018).
| Package 1106/1561 | Hostname | OS / Arch | INSTALL | BUILD | CHECK | BUILD BIN | ||||||
| plrs 1.20.0 Gwenael G.R. Leday to
| malbec2 | Linux (Ubuntu 16.04.1 LTS) / x86_64 | OK | OK | OK | |||||||
| tokay2 | Windows Server 2012 R2 Standard / x64 | OK | OK | WARNINGS | OK | |||||||
| merida2 | OS X 10.11.6 El Capitan / x86_64 | OK | OK | OK | [ OK ] |
| Package: plrs |
| Version: 1.20.0 |
| Command: rm -rf plrs.buildbin-libdir && mkdir plrs.buildbin-libdir && /Users/biocbuild/BBS/utils/build-universal.sh plrs_1.20.0.tar.gz /Library/Frameworks/R.framework/Versions/Current/Resources/bin/R plrs.buildbin-libdir |
| StartedAt: 2018-10-17 01:52:14 -0400 (Wed, 17 Oct 2018) |
| EndedAt: 2018-10-17 01:53:01 -0400 (Wed, 17 Oct 2018) |
| EllapsedTime: 46.9 seconds |
| RetCode: 0 |
| Status: OK |
| PackageFile: plrs_1.20.0.tgz |
| PackageFileSize: 1.079 MiB |
############################################################################## ############################################################################## ### ### Running command: ### ### rm -rf plrs.buildbin-libdir && mkdir plrs.buildbin-libdir && /Users/biocbuild/BBS/utils/build-universal.sh plrs_1.20.0.tar.gz /Library/Frameworks/R.framework/Versions/Current/Resources/bin/R plrs.buildbin-libdir ### ############################################################################## ############################################################################## >>>>>>> >>>>>>> INSTALLATION WITH 'R CMD INSTALL --preclean --no-multiarch --library=plrs.buildbin-libdir plrs_1.20.0.tar.gz' >>>>>>> * installing *source* package ‘plrs’ ... ** R ** data ** inst ** byte-compile and prepare package for lazy loading ** help *** installing help indices ** building package indices ** installing vignettes ** testing if installed package can be loaded * DONE (plrs)