| Back to Multiple platform build/check report for BioC 3.7 |
|
This page was generated on 2018-10-17 08:38:50 -0400 (Wed, 17 Oct 2018).
| Package 1078/1561 | Hostname | OS / Arch | INSTALL | BUILD | CHECK | BUILD BIN | ||||||
| pepStat 1.14.0 Gregory C Imholte
| malbec2 | Linux (Ubuntu 16.04.1 LTS) / x86_64 | OK | OK | OK | |||||||
| tokay2 | Windows Server 2012 R2 Standard / x64 | OK | OK | OK | [ OK ] | |||||||
| merida2 | OS X 10.11.6 El Capitan / x86_64 | OK | OK | OK | OK |
| Package: pepStat |
| Version: 1.14.0 |
| Command: rm -rf pepStat.buildbin-libdir && mkdir pepStat.buildbin-libdir && C:\Users\biocbuild\bbs-3.7-bioc\R\bin\R.exe CMD INSTALL --merge-multiarch --build --library=pepStat.buildbin-libdir pepStat_1.14.0.tar.gz |
| StartedAt: 2018-10-17 06:47:06 -0400 (Wed, 17 Oct 2018) |
| EndedAt: 2018-10-17 06:47:28 -0400 (Wed, 17 Oct 2018) |
| EllapsedTime: 22.2 seconds |
| RetCode: 0 |
| Status: OK |
| PackageFile: pepStat_1.14.0.zip |
| PackageFileSize: 720.4 KiB |
##############################################################################
##############################################################################
###
### Running command:
###
### rm -rf pepStat.buildbin-libdir && mkdir pepStat.buildbin-libdir && C:\Users\biocbuild\bbs-3.7-bioc\R\bin\R.exe CMD INSTALL --merge-multiarch --build --library=pepStat.buildbin-libdir pepStat_1.14.0.tar.gz
###
##############################################################################
##############################################################################
install for i386
* installing *source* package 'pepStat' ...
** R
** inst
** byte-compile and prepare package for lazy loading
No methods found in package 'GenomicRanges' for request: 'mcols<-' when loading 'pepStat'
No methods found in package 'GenomicRanges' for request: 'mcols' when loading 'pepStat'
** help
*** installing help indices
converting help for package 'pepStat'
finding HTML links ... done
baselineCorrect.pSet html
baseline_correct html
create_db html
finding level-2 HTML links ... done
makeCalls html
makePeptideSet html
normalizeArray html
peptideSet-methods html
peptideSet html
plotArray html
restab html
shinyPepStat html
slidingMean html
summarizePeptides html
** building package indices
** installing vignettes
** testing if installed package can be loaded
No methods found in package 'GenomicRanges' for request: 'mcols<-' when loading 'pepStat'
No methods found in package 'GenomicRanges' for request: 'mcols' when loading 'pepStat'
In R CMD INSTALL
install for x64
* installing *source* package 'pepStat' ...
** testing if installed package can be loaded
No methods found in package 'GenomicRanges' for request: 'mcols<-' when loading 'pepStat'
No methods found in package 'GenomicRanges' for request: 'mcols' when loading 'pepStat'
* MD5 sums
packaged installation of 'pepStat' as pepStat_1.14.0.zip
* DONE (pepStat)
In R CMD INSTALL
In R CMD INSTALL