| Back to Multiple platform build/check report for BioC 3.7 | 
 | 
This page was generated on 2018-10-17 08:42:08 -0400 (Wed, 17 Oct 2018).
| Package 1069/1561 | Hostname | OS / Arch | INSTALL | BUILD | CHECK | BUILD BIN | ||||||
| pcaExplorer 2.6.0 Federico Marini 
 | malbec2 | Linux (Ubuntu 16.04.1 LTS) / x86_64 | OK | OK | OK |  | ||||||
| tokay2 | Windows Server 2012 R2 Standard / x64 | OK | OK | OK | [ OK ] |  | ||||||
| merida2 | OS X 10.11.6 El Capitan / x86_64 | OK | OK | OK | OK |  | 
| Package: pcaExplorer | 
| Version: 2.6.0 | 
| Command: rm -rf pcaExplorer.buildbin-libdir && mkdir pcaExplorer.buildbin-libdir && C:\Users\biocbuild\bbs-3.7-bioc\R\bin\R.exe CMD INSTALL --merge-multiarch --build --library=pcaExplorer.buildbin-libdir pcaExplorer_2.6.0.tar.gz | 
| StartedAt: 2018-10-17 06:46:47 -0400 (Wed, 17 Oct 2018) | 
| EndedAt: 2018-10-17 06:47:34 -0400 (Wed, 17 Oct 2018) | 
| EllapsedTime: 46.9 seconds | 
| RetCode: 0 | 
| Status: OK | 
| PackageFile: pcaExplorer_2.6.0.zip | 
| PackageFileSize: 3.691 MiB | 
##############################################################################
##############################################################################
###
### Running command:
###
###   rm -rf pcaExplorer.buildbin-libdir && mkdir pcaExplorer.buildbin-libdir && C:\Users\biocbuild\bbs-3.7-bioc\R\bin\R.exe CMD INSTALL --merge-multiarch --build --library=pcaExplorer.buildbin-libdir pcaExplorer_2.6.0.tar.gz
###
##############################################################################
##############################################################################
install for i386
* installing *source* package 'pcaExplorer' ...
** R
** inst
** byte-compile and prepare package for lazy loading
** help
*** installing help indices
  converting help for package 'pcaExplorer'
    finding HTML links ... done
    correlatePCs                            html  
    distro_expr                             html  
    finding level-2 HTML links ... done
    geneprofiler                            html  
    genespca                                html  
    get_annotation                          html  
    get_annotation_orgdb                    html  
    hi_loadings                             html  
    limmaquickpca2go                        html  
    makeExampleDESeqDataSet_multifac        html  
    pair_corr                               html  
    pca2go                                  html  
    pcaExplorer                             html  
    pcaplot                                 html  
    pcaplot3d                               html  
    pcascree                                html  
    plotPCcorrs                             html  
    topGOtable                              html  
** building package indices
** installing vignettes
** testing if installed package can be loaded
In R CMD INSTALL
install for x64
* installing *source* package 'pcaExplorer' ...
** testing if installed package can be loaded
* MD5 sums
packaged installation of 'pcaExplorer' as pcaExplorer_2.6.0.zip
* DONE (pcaExplorer)
In R CMD INSTALL
In R CMD INSTALL