| Back to Multiple platform build/check report for BioC 3.7 |
|
This page was generated on 2018-10-17 08:43:38 -0400 (Wed, 17 Oct 2018).
| Package 1061/1561 | Hostname | OS / Arch | INSTALL | BUILD | CHECK | BUILD BIN | ||||||
| pathprint 1.10.4 Sokratis Kariotis
| malbec2 | Linux (Ubuntu 16.04.1 LTS) / x86_64 | OK | OK | OK | |||||||
| tokay2 | Windows Server 2012 R2 Standard / x64 | OK | OK | OK | [ OK ] | |||||||
| merida2 | OS X 10.11.6 El Capitan / x86_64 | OK | OK | OK | OK |
| Package: pathprint |
| Version: 1.10.4 |
| Command: rm -rf pathprint.buildbin-libdir && mkdir pathprint.buildbin-libdir && C:\Users\biocbuild\bbs-3.7-bioc\R\bin\R.exe CMD INSTALL --merge-multiarch --build --library=pathprint.buildbin-libdir pathprint_1.10.4.tar.gz |
| StartedAt: 2018-10-17 06:46:33 -0400 (Wed, 17 Oct 2018) |
| EndedAt: 2018-10-17 06:46:47 -0400 (Wed, 17 Oct 2018) |
| EllapsedTime: 14.1 seconds |
| RetCode: 0 |
| Status: OK |
| PackageFile: pathprint_1.10.4.zip |
| PackageFileSize: 1.125 MiB |
##############################################################################
##############################################################################
###
### Running command:
###
### rm -rf pathprint.buildbin-libdir && mkdir pathprint.buildbin-libdir && C:\Users\biocbuild\bbs-3.7-bioc\R\bin\R.exe CMD INSTALL --merge-multiarch --build --library=pathprint.buildbin-libdir pathprint_1.10.4.tar.gz
###
##############################################################################
##############################################################################
install for i386
* installing *source* package 'pathprint' ...
** R
** data
** inst
** byte-compile and prepare package for lazy loading
** help
*** installing help indices
converting help for package 'pathprint'
finding HTML links ... done
consensusDistance html
consensusFingerprint html
customCDFAnn html
diffPathways html
exprs2fingerprint html
genesets html
pathprint-package html
pathprint.Ce.gs html
pathprint.Dm.gs html
pathprint.Dr.gs html
pathprint.Hs.gs html
pathprint.Mm.gs html
pathprint.Rn.gs html
platform.thresholds html
pluripotents.frame html
single.chip.enrichment html
thresholdFingerprint html
** building package indices
** installing vignettes
** testing if installed package can be loaded
In R CMD INSTALL
install for x64
* installing *source* package 'pathprint' ...
** testing if installed package can be loaded
* MD5 sums
packaged installation of 'pathprint' as pathprint_1.10.4.zip
* DONE (pathprint)
In R CMD INSTALL
In R CMD INSTALL