| Back to Multiple platform build/check report for BioC 3.7 |
|
This page was generated on 2018-10-17 08:44:36 -0400 (Wed, 17 Oct 2018).
| Package 1049/1561 | Hostname | OS / Arch | INSTALL | BUILD | CHECK | BUILD BIN | ||||||
| panelcn.mops 1.2.0 Gundula Povysil
| malbec2 | Linux (Ubuntu 16.04.1 LTS) / x86_64 | OK | OK | OK | |||||||
| tokay2 | Windows Server 2012 R2 Standard / x64 | OK | OK | OK | [ OK ] | |||||||
| merida2 | OS X 10.11.6 El Capitan / x86_64 | OK | OK | OK | OK |
| Package: panelcn.mops |
| Version: 1.2.0 |
| Command: rm -rf panelcn.mops.buildbin-libdir && mkdir panelcn.mops.buildbin-libdir && C:\Users\biocbuild\bbs-3.7-bioc\R\bin\R.exe CMD INSTALL --merge-multiarch --build --library=panelcn.mops.buildbin-libdir panelcn.mops_1.2.0.tar.gz |
| StartedAt: 2018-10-17 06:46:07 -0400 (Wed, 17 Oct 2018) |
| EndedAt: 2018-10-17 06:46:31 -0400 (Wed, 17 Oct 2018) |
| EllapsedTime: 23.8 seconds |
| RetCode: 0 |
| Status: OK |
| PackageFile: panelcn.mops_1.2.0.zip |
| PackageFileSize: 426.1 KiB |
##############################################################################
##############################################################################
###
### Running command:
###
### rm -rf panelcn.mops.buildbin-libdir && mkdir panelcn.mops.buildbin-libdir && C:\Users\biocbuild\bbs-3.7-bioc\R\bin\R.exe CMD INSTALL --merge-multiarch --build --library=panelcn.mops.buildbin-libdir panelcn.mops_1.2.0.tar.gz
###
##############################################################################
##############################################################################
install for i386
* installing *source* package 'panelcn.mops' ...
** R
** data
*** moving datasets to lazyload DB
** inst
** byte-compile and prepare package for lazy loading
** help
*** installing help indices
converting help for package 'panelcn.mops'
finding HTML links ... done
control html
countBamListInGRanges html
countWindows html
createResultTable html
getWindows html
panelcn.mops html
plotBoxplot html
read.width html
resultlist html
runPanelcnMops html
splitROIs html
test html
** building package indices
** installing vignettes
** testing if installed package can be loaded
In R CMD INSTALL
install for x64
* installing *source* package 'panelcn.mops' ...
** testing if installed package can be loaded
* MD5 sums
packaged installation of 'panelcn.mops' as panelcn.mops_1.2.0.zip
* DONE (panelcn.mops)
In R CMD INSTALL
In R CMD INSTALL