| Back to Multiple platform build/check report for BioC 3.7 | 
  | 
This page was generated on 2018-10-17 08:52:08 -0400 (Wed, 17 Oct 2018).
| Package 1030/1561 | Hostname | OS / Arch | INSTALL | BUILD | CHECK | BUILD BIN | ||||||
| openCyto 1.18.0 Mike Jiang 
  | malbec2 | Linux (Ubuntu 16.04.1 LTS) / x86_64 | OK | OK | OK | |||||||
| tokay2 | Windows Server 2012 R2 Standard / x64 | OK | OK | OK | OK | |||||||
| merida2 | OS X 10.11.6 El Capitan / x86_64 | OK | [ OK ] | OK | OK | 
| Package: openCyto | 
| Version: 1.18.0 | 
| Command: /Library/Frameworks/R.framework/Versions/Current/Resources/bin/R CMD build --keep-empty-dirs --no-resave-data openCyto | 
| StartedAt: 2018-10-16 17:19:57 -0400 (Tue, 16 Oct 2018) | 
| EndedAt: 2018-10-16 17:22:12 -0400 (Tue, 16 Oct 2018) | 
| EllapsedTime: 135.0 seconds | 
| RetCode: 0 | 
| Status: OK | 
| PackageFile: openCyto_1.18.0.tar.gz | 
| PackageFileSize: 2.282 MiB | 
############################################################################## ############################################################################## ### ### Running command: ### ### /Library/Frameworks/R.framework/Versions/Current/Resources/bin/R CMD build --keep-empty-dirs --no-resave-data openCyto ### ############################################################################## ############################################################################## * checking for file ‘openCyto/DESCRIPTION’ ... OK * preparing ‘openCyto’: * checking DESCRIPTION meta-information ... OK * cleaning src * installing the package to build vignettes * creating vignettes ... OK * cleaning src * checking for LF line-endings in source and make files and shell scripts * checking for empty or unneeded directories * building ‘openCyto_1.18.0.tar.gz’