| Back to Multiple platform build/check report for BioC 3.7 | 
  | 
This page was generated on 2018-10-17 08:38:55 -0400 (Wed, 17 Oct 2018).
| Package 986/1561 | Hostname | OS / Arch | INSTALL | BUILD | CHECK | BUILD BIN | ||||||
| netbiov 1.14.0 Shailesh tripathi 
  | malbec2 | Linux (Ubuntu 16.04.1 LTS) / x86_64 | OK | OK | OK | |||||||
| tokay2 | Windows Server 2012 R2 Standard / x64 | OK | [ OK ] | OK | OK | |||||||
| merida2 | OS X 10.11.6 El Capitan / x86_64 | OK | OK | OK | OK | 
| Package: netbiov | 
| Version: 1.14.0 | 
| Command: chmod a+r netbiov -R && C:\Users\biocbuild\bbs-3.7-bioc\R\bin\R.exe CMD build --keep-empty-dirs --no-resave-data netbiov | 
| StartedAt: 2018-10-16 22:21:52 -0400 (Tue, 16 Oct 2018) | 
| EndedAt: 2018-10-16 22:27:20 -0400 (Tue, 16 Oct 2018) | 
| EllapsedTime: 327.9 seconds | 
| RetCode: 0 | 
| Status: OK | 
| PackageFile: netbiov_1.14.0.tar.gz | 
| PackageFileSize: 7.119 MiB | 
############################################################################## ############################################################################## ### ### Running command: ### ### chmod a+r netbiov -R && C:\Users\biocbuild\bbs-3.7-bioc\R\bin\R.exe CMD build --keep-empty-dirs --no-resave-data netbiov ### ############################################################################## ############################################################################## * checking for file 'netbiov/DESCRIPTION' ... OK * preparing 'netbiov': * checking DESCRIPTION meta-information ... OK * installing the package to build vignettes * creating vignettes ... OK * checking for LF line-endings in source and make files and shell scripts * checking for empty or unneeded directories * looking to see if a 'data/datalist' file should be added * building 'netbiov_1.14.0.tar.gz'