| Back to Multiple platform build/check report for BioC 3.7 |
|
This page was generated on 2018-10-17 08:45:52 -0400 (Wed, 17 Oct 2018).
| Package 993/1561 | Hostname | OS / Arch | INSTALL | BUILD | CHECK | BUILD BIN | ||||||
| netSmooth 1.0.2 Jonathan Ronen
| malbec2 | Linux (Ubuntu 16.04.1 LTS) / x86_64 | OK | OK | OK | |||||||
| tokay2 | Windows Server 2012 R2 Standard / x64 | [ OK ] | OK | OK | OK | |||||||
| merida2 | OS X 10.11.6 El Capitan / x86_64 | OK | OK | OK | OK |
| Package: netSmooth |
| Version: 1.0.2 |
| Command: C:\cygwin\bin\curl.exe -O https://malbec2.bioconductor.org/BBS/3.7/bioc/src/contrib/netSmooth_1.0.2.tar.gz && rm -rf netSmooth.buildbin-libdir && mkdir netSmooth.buildbin-libdir && C:\Users\biocbuild\bbs-3.7-bioc\R\bin\R.exe CMD INSTALL --merge-multiarch --build --library=netSmooth.buildbin-libdir netSmooth_1.0.2.tar.gz && C:\Users\biocbuild\bbs-3.7-bioc\R\bin\R.exe CMD INSTALL netSmooth_1.0.2.zip && rm netSmooth_1.0.2.tar.gz netSmooth_1.0.2.zip |
| StartedAt: 2018-10-16 20:23:29 -0400 (Tue, 16 Oct 2018) |
| EndedAt: 2018-10-16 20:24:36 -0400 (Tue, 16 Oct 2018) |
| EllapsedTime: 66.8 seconds |
| RetCode: 0 |
| Status: OK |
##############################################################################
##############################################################################
###
### Running command:
###
### C:\cygwin\bin\curl.exe -O https://malbec2.bioconductor.org/BBS/3.7/bioc/src/contrib/netSmooth_1.0.2.tar.gz && rm -rf netSmooth.buildbin-libdir && mkdir netSmooth.buildbin-libdir && C:\Users\biocbuild\bbs-3.7-bioc\R\bin\R.exe CMD INSTALL --merge-multiarch --build --library=netSmooth.buildbin-libdir netSmooth_1.0.2.tar.gz && C:\Users\biocbuild\bbs-3.7-bioc\R\bin\R.exe CMD INSTALL netSmooth_1.0.2.zip && rm netSmooth_1.0.2.tar.gz netSmooth_1.0.2.zip
###
##############################################################################
##############################################################################
% Total % Received % Xferd Average Speed Time Time Time Current
Dload Upload Total Spent Left Speed
0 0 0 0 0 0 0 0 --:--:-- --:--:-- --:--:-- 0
100 1989k 100 1989k 0 0 29.2M 0 --:--:-- --:--:-- --:--:-- 31.8M
install for i386
* installing *source* package 'netSmooth' ...
** R
** data
*** moving datasets to lazyload DB
** inst
** byte-compile and prepare package for lazy loading
** help
*** installing help indices
converting help for package 'netSmooth'
finding HTML links ... done
calc2DEntropy html
clusterExperimentWorkflow html
clusterOne html
dimReduce html
human.ppi html
l1NormalizeColumns html
l1NormalizeRows html
mouse.ppi html
netSmooth html
pickDimReduction html
projectFromNetworkRecombine html
projectOnNetwork html
randomWalkByIterations html
randomWalkByMatrixInv html
randomWalkBySolve-matrix-method html
robustClusters html
scoreSmoothing html
smallPPI html
smallscRNAseq html
smoothAndRecombine html
** building package indices
** installing vignettes
** testing if installed package can be loaded
In R CMD INSTALL
install for x64
* installing *source* package 'netSmooth' ...
** testing if installed package can be loaded
* MD5 sums
packaged installation of 'netSmooth' as netSmooth_1.0.2.zip
* DONE (netSmooth)
In R CMD INSTALL
In R CMD INSTALL
* installing to library 'C:/Users/biocbuild/bbs-3.7-bioc/R/library'
package 'netSmooth' successfully unpacked and MD5 sums checked
In R CMD INSTALL