| Back to Multiple platform build/check report for BioC 3.7 |
|
This page was generated on 2018-10-17 08:24:02 -0400 (Wed, 17 Oct 2018).
| Package 981/1561 | Hostname | OS / Arch | INSTALL | BUILD | CHECK | BUILD BIN | ||||||
| ncdfFlow 2.26.0 Mike Jiang
| malbec2 | Linux (Ubuntu 16.04.1 LTS) / x86_64 | [ OK ] | OK | OK | |||||||
| tokay2 | Windows Server 2012 R2 Standard / x64 | OK | OK | OK | OK | |||||||
| merida2 | OS X 10.11.6 El Capitan / x86_64 | OK | OK | OK | OK |
| Package: ncdfFlow |
| Version: 2.26.0 |
| Command: /home/biocbuild/bbs-3.7-bioc/R/bin/R CMD INSTALL ncdfFlow |
| StartedAt: 2018-10-15 18:07:24 -0400 (Mon, 15 Oct 2018) |
| EndedAt: 2018-10-15 18:07:54 -0400 (Mon, 15 Oct 2018) |
| EllapsedTime: 29.9 seconds |
| RetCode: 0 |
| Status: OK |
##############################################################################
##############################################################################
###
### Running command:
###
### /home/biocbuild/bbs-3.7-bioc/R/bin/R CMD INSTALL ncdfFlow
###
##############################################################################
##############################################################################
* installing to library ‘/home/biocbuild/bbs-3.7-bioc/R/library’
* installing *source* package ‘ncdfFlow’ ...
** libs
g++ -I"/home/biocbuild/bbs-3.7-bioc/R/include" -DNDEBUG -I"/home/biocbuild/bbs-3.7-bioc/R/library/Rcpp/include" -I"/home/biocbuild/bbs-3.7-bioc/R/library/RcppArmadillo/include" -I"/home/biocbuild/bbs-3.7-bioc/R/library/BH/include" -I"/home/biocbuild/bbs-3.7-bioc/R/library/Rhdf5lib/include" -I/usr/local/include -fpic -g -O2 -Wall -c RcppExports.cpp -o RcppExports.o
In file included from /home/biocbuild/bbs-3.7-bioc/R/library/RcppArmadillo/include/armadillo:54:0,
from /home/biocbuild/bbs-3.7-bioc/R/library/RcppArmadillo/include/RcppArmadilloForward.h:46,
from /home/biocbuild/bbs-3.7-bioc/R/library/RcppArmadillo/include/RcppArmadillo.h:31,
from ../inst/include/../../src/hdfFlow.h:5,
from ../inst/include/ncdfFlow.h:4,
from RcppExports.cpp:4:
/home/biocbuild/bbs-3.7-bioc/R/library/RcppArmadillo/include/armadillo_bits/compiler_setup.hpp:509:108: note: #pragma message: NOTE: suggest to enable C++14 mode for faster code; add -std=c++14 to compiler flags
#pragma message ("NOTE: suggest to enable C++14 mode for faster code; add -std=c++14 to compiler flags")
^
g++ -I"/home/biocbuild/bbs-3.7-bioc/R/include" -DNDEBUG -I"/home/biocbuild/bbs-3.7-bioc/R/library/Rcpp/include" -I"/home/biocbuild/bbs-3.7-bioc/R/library/RcppArmadillo/include" -I"/home/biocbuild/bbs-3.7-bioc/R/library/BH/include" -I"/home/biocbuild/bbs-3.7-bioc/R/library/Rhdf5lib/include" -I/usr/local/include -fpic -g -O2 -Wall -c bitOps.cpp -o bitOps.o
g++ -I"/home/biocbuild/bbs-3.7-bioc/R/include" -DNDEBUG -I"/home/biocbuild/bbs-3.7-bioc/R/library/Rcpp/include" -I"/home/biocbuild/bbs-3.7-bioc/R/library/RcppArmadillo/include" -I"/home/biocbuild/bbs-3.7-bioc/R/library/BH/include" -I"/home/biocbuild/bbs-3.7-bioc/R/library/Rhdf5lib/include" -I/usr/local/include -fpic -g -O2 -Wall -c hdfFlow.cpp -o hdfFlow.o
In file included from /home/biocbuild/bbs-3.7-bioc/R/library/RcppArmadillo/include/armadillo:54:0,
from /home/biocbuild/bbs-3.7-bioc/R/library/RcppArmadillo/include/RcppArmadilloForward.h:46,
from /home/biocbuild/bbs-3.7-bioc/R/library/RcppArmadillo/include/RcppArmadillo.h:31,
from hdfFlow.h:5,
from hdfFlow.cpp:1:
/home/biocbuild/bbs-3.7-bioc/R/library/RcppArmadillo/include/armadillo_bits/compiler_setup.hpp:509:108: note: #pragma message: NOTE: suggest to enable C++14 mode for faster code; add -std=c++14 to compiler flags
#pragma message ("NOTE: suggest to enable C++14 mode for faster code; add -std=c++14 to compiler flags")
^
hdfFlow.cpp: In function ‘void readSlice_cpp(hid_t, hid_t, hid_t, std::vector<unsigned int, std::allocator<unsigned int> >, unsigned int, unsigned int, double*, bool)’:
hdfFlow.cpp:486:14: warning: variable ‘status’ set but not used [-Wunused-but-set-variable]
herr_t status;
^
gcc -I"/home/biocbuild/bbs-3.7-bioc/R/include" -DNDEBUG -I"/home/biocbuild/bbs-3.7-bioc/R/library/Rcpp/include" -I"/home/biocbuild/bbs-3.7-bioc/R/library/RcppArmadillo/include" -I"/home/biocbuild/bbs-3.7-bioc/R/library/BH/include" -I"/home/biocbuild/bbs-3.7-bioc/R/library/Rhdf5lib/include" -I/usr/local/include -fpic -g -O2 -Wall -c init.c -o init.o
g++ -I"/home/biocbuild/bbs-3.7-bioc/R/include" -DNDEBUG -I"/home/biocbuild/bbs-3.7-bioc/R/library/Rcpp/include" -I"/home/biocbuild/bbs-3.7-bioc/R/library/RcppArmadillo/include" -I"/home/biocbuild/bbs-3.7-bioc/R/library/BH/include" -I"/home/biocbuild/bbs-3.7-bioc/R/library/Rhdf5lib/include" -I/usr/local/include -fpic -g -O2 -Wall -c readFrame.cpp -o readFrame.o
In file included from /home/biocbuild/bbs-3.7-bioc/R/library/RcppArmadillo/include/armadillo:54:0,
from /home/biocbuild/bbs-3.7-bioc/R/library/RcppArmadillo/include/RcppArmadilloForward.h:46,
from /home/biocbuild/bbs-3.7-bioc/R/library/RcppArmadillo/include/RcppArmadillo.h:31,
from hdfFlow.h:5,
from readFrame.cpp:1:
/home/biocbuild/bbs-3.7-bioc/R/library/RcppArmadillo/include/armadillo_bits/compiler_setup.hpp:509:108: note: #pragma message: NOTE: suggest to enable C++14 mode for faster code; add -std=c++14 to compiler flags
#pragma message ("NOTE: suggest to enable C++14 mode for faster code; add -std=c++14 to compiler flags")
^
mkdir -p "/home/biocbuild/bbs-3.7-bioc/R/library/ncdfFlow/lib"
ar rs "/home/biocbuild/bbs-3.7-bioc/R/library/ncdfFlow/lib/libncdfFlow.a" RcppExports.o bitOps.o hdfFlow.o init.o readFrame.o
ar: creating /home/biocbuild/bbs-3.7-bioc/R/library/ncdfFlow/lib/libncdfFlow.a
g++ -shared -L/home/biocbuild/bbs-3.7-bioc/R/lib -L/usr/local/lib -o ncdfFlow.so RcppExports.o bitOps.o hdfFlow.o init.o readFrame.o /home/biocbuild/bbs-3.7-bioc/R/library/Rhdf5lib/lib/libhdf5.a /home/biocbuild/bbs-3.7-bioc/R/library/Rhdf5lib/lib/libsz.a -lz -L/home/biocbuild/bbs-3.7-bioc/R/lib -lR
installing to /home/biocbuild/bbs-3.7-bioc/R/library/ncdfFlow/libs
** R
** inst
** byte-compile and prepare package for lazy loading
** help
*** installing help indices
** building package indices
** installing vignettes
** testing if installed package can be loaded
* DONE (ncdfFlow)