| Back to Multiple platform build/check report for BioC 3.7 |
|
This page was generated on 2018-10-17 08:27:57 -0400 (Wed, 17 Oct 2018).
| Package 974/1561 | Hostname | OS / Arch | INSTALL | BUILD | CHECK | BUILD BIN | ||||||
| myvariant 1.10.0 Adam Mark, Chunlei Wu
| malbec2 | Linux (Ubuntu 16.04.1 LTS) / x86_64 | OK | [ OK ] | OK | |||||||
| tokay2 | Windows Server 2012 R2 Standard / x64 | OK | OK | OK | OK | |||||||
| merida2 | OS X 10.11.6 El Capitan / x86_64 | OK | OK | OK | OK |
| Package: myvariant |
| Version: 1.10.0 |
| Command: /home/biocbuild/bbs-3.7-bioc/R/bin/R CMD build --keep-empty-dirs --no-resave-data myvariant |
| StartedAt: 2018-10-15 20:37:42 -0400 (Mon, 15 Oct 2018) |
| EndedAt: 2018-10-15 20:38:21 -0400 (Mon, 15 Oct 2018) |
| EllapsedTime: 38.3 seconds |
| RetCode: 0 |
| Status: OK |
| PackageFile: myvariant_1.10.0.tar.gz |
| PackageFileSize: 151.7 KiB |
############################################################################## ############################################################################## ### ### Running command: ### ### /home/biocbuild/bbs-3.7-bioc/R/bin/R CMD build --keep-empty-dirs --no-resave-data myvariant ### ############################################################################## ############################################################################## * checking for file ‘myvariant/DESCRIPTION’ ... OK * preparing ‘myvariant’: * checking DESCRIPTION meta-information ... OK * installing the package to build vignettes * creating vignettes ... OK * checking for LF line-endings in source and make files and shell scripts * checking for empty or unneeded directories * building ‘myvariant_1.10.0.tar.gz’