| Back to Multiple platform build/check report for BioC 3.7 | 
 | 
This page was generated on 2018-10-17 08:50:29 -0400 (Wed, 17 Oct 2018).
| Package 942/1561 | Hostname | OS / Arch | INSTALL | BUILD | CHECK | BUILD BIN | ||||||
| motifRG 1.24.0 Zizhen Yao 
 | malbec2 | Linux (Ubuntu 16.04.1 LTS) / x86_64 | OK | OK | ERROR | |||||||
| tokay2 | Windows Server 2012 R2 Standard / x64 | OK | OK | OK | OK |  | ||||||
| merida2 | OS X 10.11.6 El Capitan / x86_64 | OK | OK | OK | [ OK ] |  | 
| Package: motifRG | 
| Version: 1.24.0 | 
| Command: rm -rf motifRG.buildbin-libdir && mkdir motifRG.buildbin-libdir && /Users/biocbuild/BBS/utils/build-universal.sh motifRG_1.24.0.tar.gz /Library/Frameworks/R.framework/Versions/Current/Resources/bin/R motifRG.buildbin-libdir | 
| StartedAt: 2018-10-17 01:43:40 -0400 (Wed, 17 Oct 2018) | 
| EndedAt: 2018-10-17 01:44:36 -0400 (Wed, 17 Oct 2018) | 
| EllapsedTime: 56.4 seconds | 
| RetCode: 0 | 
| Status: OK | 
| PackageFile: motifRG_1.24.0.tgz | 
| PackageFileSize: 1.199 MiB | 
############################################################################## ############################################################################## ### ### Running command: ### ### rm -rf motifRG.buildbin-libdir && mkdir motifRG.buildbin-libdir && /Users/biocbuild/BBS/utils/build-universal.sh motifRG_1.24.0.tar.gz /Library/Frameworks/R.framework/Versions/Current/Resources/bin/R motifRG.buildbin-libdir ### ############################################################################## ############################################################################## >>>>>>> >>>>>>> INSTALLATION WITH 'R CMD INSTALL --preclean --no-multiarch --library=motifRG.buildbin-libdir motifRG_1.24.0.tar.gz' >>>>>>> * installing *source* package ‘motifRG’ ... ** R ** data ** inst ** byte-compile and prepare package for lazy loading ** help *** installing help indices ** building package indices ** installing vignettes ** testing if installed package can be loaded * DONE (motifRG)