| Back to Multiple platform build/check report for BioC 3.7 |
|
This page was generated on 2018-10-17 08:30:19 -0400 (Wed, 17 Oct 2018).
| Package 914/1561 | Hostname | OS / Arch | INSTALL | BUILD | CHECK | BUILD BIN | ||||||
| miRBaseConverter 1.4.3 Taosheng Xu
| malbec2 | Linux (Ubuntu 16.04.1 LTS) / x86_64 | OK | [ OK ] | OK | |||||||
| tokay2 | Windows Server 2012 R2 Standard / x64 | OK | OK | OK | OK | |||||||
| merida2 | OS X 10.11.6 El Capitan / x86_64 | OK | OK | OK | OK |
| Package: miRBaseConverter |
| Version: 1.4.3 |
| Command: /home/biocbuild/bbs-3.7-bioc/R/bin/R CMD build --keep-empty-dirs --no-resave-data miRBaseConverter |
| StartedAt: 2018-10-15 21:39:39 -0400 (Mon, 15 Oct 2018) |
| EndedAt: 2018-10-15 21:40:01 -0400 (Mon, 15 Oct 2018) |
| EllapsedTime: 22.1 seconds |
| RetCode: 0 |
| Status: OK |
| PackageFile: miRBaseConverter_1.4.3.tar.gz |
| PackageFileSize: 1.942 MiB |
##############################################################################
##############################################################################
###
### Running command:
###
### /home/biocbuild/bbs-3.7-bioc/R/bin/R CMD build --keep-empty-dirs --no-resave-data miRBaseConverter
###
##############################################################################
##############################################################################
* checking for file ‘miRBaseConverter/DESCRIPTION’ ... OK
* preparing ‘miRBaseConverter’:
* checking DESCRIPTION meta-information ... OK
* installing the package to build vignettes
* creating vignettes ... OK
Warning: ‘inst/doc’ files
‘miRBaseConverter-vignette.html’, ‘miRBaseConverter-vignette.R’
ignored as vignettes have been rebuilt.
Run R CMD build with --no-build-vignettes to prevent rebuilding.
* checking for LF line-endings in source and make files and shell scripts
* checking for empty or unneeded directories
* looking to see if a ‘data/datalist’ file should be added
* building ‘miRBaseConverter_1.4.3.tar.gz’