| Back to Multiple platform build/check report for BioC 3.7 | 
 | 
This page was generated on 2018-10-17 08:29:11 -0400 (Wed, 17 Oct 2018).
| Package 889/1561 | Hostname | OS / Arch | INSTALL | BUILD | CHECK | BUILD BIN | ||||||
| methylKit 1.6.3 Altuna Akalin 
 | malbec2 | Linux (Ubuntu 16.04.1 LTS) / x86_64 | [ OK ] | OK | OK |  | ||||||
| tokay2 | Windows Server 2012 R2 Standard / x64 | OK | OK | WARNINGS | OK |  | ||||||
| merida2 | OS X 10.11.6 El Capitan / x86_64 | OK | OK | OK | OK |  | 
| Package: methylKit | 
| Version: 1.6.3 | 
| Command: /home/biocbuild/bbs-3.7-bioc/R/bin/R CMD INSTALL methylKit | 
| StartedAt: 2018-10-15 18:20:38 -0400 (Mon, 15 Oct 2018) | 
| EndedAt: 2018-10-15 18:21:17 -0400 (Mon, 15 Oct 2018) | 
| EllapsedTime: 39.0 seconds | 
| RetCode: 0 | 
| Status: OK | 
############################################################################## ############################################################################## ### ### Running command: ### ### /home/biocbuild/bbs-3.7-bioc/R/bin/R CMD INSTALL methylKit ### ############################################################################## ############################################################################## * installing to library ‘/home/biocbuild/bbs-3.7-bioc/R/library’ * installing *source* package ‘methylKit’ ... ** libs g++ -std=gnu++11 -I"/home/biocbuild/bbs-3.7-bioc/R/include" -DNDEBUG -I"/home/biocbuild/bbs-3.7-bioc/R/library/Rcpp/include" -I"/home/biocbuild/bbs-3.7-bioc/R/library/Rhtslib/include" -I"/home/biocbuild/bbs-3.7-bioc/R/library/zlibbioc/include" -I/usr/local/include -fpic -g -O2 -c RcppExports.cpp -o RcppExports.o g++ -std=gnu++11 -I"/home/biocbuild/bbs-3.7-bioc/R/include" -DNDEBUG -I"/home/biocbuild/bbs-3.7-bioc/R/library/Rcpp/include" -I"/home/biocbuild/bbs-3.7-bioc/R/library/Rhtslib/include" -I"/home/biocbuild/bbs-3.7-bioc/R/library/zlibbioc/include" -I/usr/local/include -fpic -g -O2 -c methCall.cpp -o methCall.o g++ -std=gnu++11 -shared -L/home/biocbuild/bbs-3.7-bioc/R/lib -L/usr/local/lib -o methylKit.so RcppExports.o methCall.o -L/home/biocbuild/bbs-3.7-bioc/R/library/Rhtslib/usrlib -Wl,-rpath,/home/biocbuild/bbs-3.7-bioc/R/library/Rhtslib/usrlib -lhts -lz -lm -lbz2 -llzma -lpthread -L/home/biocbuild/bbs-3.7-bioc/R/lib -lR installing to /home/biocbuild/bbs-3.7-bioc/R/library/methylKit/libs ** R ** data ** inst ** byte-compile and prepare package for lazy loading ** help *** installing help indices ** building package indices ** installing vignettes ** testing if installed package can be loaded * DONE (methylKit)