Back to Multiple platform build/check report for BioC 3.7 |
|
This page was generated on 2018-10-17 08:58:10 -0400 (Wed, 17 Oct 2018).
Package 879/1561 | Hostname | OS / Arch | INSTALL | BUILD | CHECK | BUILD BIN | ||||||
metavizr 1.4.1 Hector Corrada Bravo
| malbec2 | Linux (Ubuntu 16.04.1 LTS) / x86_64 | OK | OK | OK | |||||||
tokay2 | Windows Server 2012 R2 Standard / x64 | OK | OK | WARNINGS | OK | |||||||
merida2 | OS X 10.11.6 El Capitan / x86_64 | OK | OK | OK | [ OK ] |
Package: metavizr |
Version: 1.4.1 |
Command: rm -rf metavizr.buildbin-libdir && mkdir metavizr.buildbin-libdir && /Users/biocbuild/BBS/utils/build-universal.sh metavizr_1.4.1.tar.gz /Library/Frameworks/R.framework/Versions/Current/Resources/bin/R metavizr.buildbin-libdir |
StartedAt: 2018-10-17 01:40:30 -0400 (Wed, 17 Oct 2018) |
EndedAt: 2018-10-17 01:41:19 -0400 (Wed, 17 Oct 2018) |
EllapsedTime: 48.5 seconds |
RetCode: 0 |
Status: OK |
PackageFile: metavizr_1.4.1.tgz |
PackageFileSize: 1.941 MiB |
############################################################################## ############################################################################## ### ### Running command: ### ### rm -rf metavizr.buildbin-libdir && mkdir metavizr.buildbin-libdir && /Users/biocbuild/BBS/utils/build-universal.sh metavizr_1.4.1.tar.gz /Library/Frameworks/R.framework/Versions/Current/Resources/bin/R metavizr.buildbin-libdir ### ############################################################################## ############################################################################## >>>>>>> >>>>>>> INSTALLATION WITH 'R CMD INSTALL --preclean --no-multiarch --library=metavizr.buildbin-libdir metavizr_1.4.1.tar.gz' >>>>>>> * installing *source* package ‘metavizr’ ... ** R ** inst ** byte-compile and prepare package for lazy loading Warning: replacing previous import 'S4Vectors::merge' by 'git2r::merge' when loading 'epivizrStandalone' Warning: replacing previous import 'S4Vectors::head' by 'git2r::head' when loading 'epivizrStandalone' Warning: replacing previous import 'S4Vectors::as.data.frame' by 'git2r::as.data.frame' when loading 'epivizrStandalone' ** help *** installing help indices ** building package indices ** installing vignettes ** testing if installed package can be loaded Warning: replacing previous import 'S4Vectors::merge' by 'git2r::merge' when loading 'epivizrStandalone' Warning: replacing previous import 'S4Vectors::head' by 'git2r::head' when loading 'epivizrStandalone' Warning: replacing previous import 'S4Vectors::as.data.frame' by 'git2r::as.data.frame' when loading 'epivizrStandalone' * DONE (metavizr)