| Back to Multiple platform build/check report for BioC 3.7 |
|
This page was generated on 2018-10-17 08:41:12 -0400 (Wed, 17 Oct 2018).
| Package 872/1561 | Hostname | OS / Arch | INSTALL | BUILD | CHECK | BUILD BIN | ||||||
| metagenomeFeatures 2.0.0 Nathan D. Olson
| malbec2 | Linux (Ubuntu 16.04.1 LTS) / x86_64 | OK | OK | WARNINGS | |||||||
| tokay2 | Windows Server 2012 R2 Standard / x64 | OK | OK | WARNINGS | [ OK ] | |||||||
| merida2 | OS X 10.11.6 El Capitan / x86_64 | OK | OK | WARNINGS | OK |
| Package: metagenomeFeatures |
| Version: 2.0.0 |
| Command: rm -rf metagenomeFeatures.buildbin-libdir && mkdir metagenomeFeatures.buildbin-libdir && C:\Users\biocbuild\bbs-3.7-bioc\R\bin\R.exe CMD INSTALL --merge-multiarch --build --library=metagenomeFeatures.buildbin-libdir metagenomeFeatures_2.0.0.tar.gz |
| StartedAt: 2018-10-17 06:39:42 -0400 (Wed, 17 Oct 2018) |
| EndedAt: 2018-10-17 06:40:00 -0400 (Wed, 17 Oct 2018) |
| EllapsedTime: 18.2 seconds |
| RetCode: 0 |
| Status: OK |
| PackageFile: metagenomeFeatures_2.0.0.zip |
| PackageFileSize: 3.075 MiB |
##############################################################################
##############################################################################
###
### Running command:
###
### rm -rf metagenomeFeatures.buildbin-libdir && mkdir metagenomeFeatures.buildbin-libdir && C:\Users\biocbuild\bbs-3.7-bioc\R\bin\R.exe CMD INSTALL --merge-multiarch --build --library=metagenomeFeatures.buildbin-libdir metagenomeFeatures_2.0.0.tar.gz
###
##############################################################################
##############################################################################
install for i386
* installing *source* package 'metagenomeFeatures' ...
** R
** data
*** moving datasets to lazyload DB
** inst
** byte-compile and prepare package for lazy loading
Warning: replacing previous import 'lazyeval::is_formula' by 'purrr::is_formula' when loading 'metagenomeFeatures'
Warning: replacing previous import 'lazyeval::is_atomic' by 'purrr::is_atomic' when loading 'metagenomeFeatures'
Warning: subclass "QualityScaledDNAStringSet" of class "DNAStringSet" is not local and cannot be updated for new inheritance information; consider setClassUnion()
** help
*** installing help indices
converting help for package 'metagenomeFeatures'
finding HTML links ... done
MgDb-class html
annotateFeatures-MgDb-method html
get_gg13.8_85MgDb html
make_mgdb_sqlite html
mgDb_ html
mgF_ html
mgFeatures-class html
Rd warning: C:/Users/biocbuild/bbs-3.7-bioc/tmpdir/RtmpCwfh47/R.INSTALL202c35083b2d/metagenomeFeatures/man/mgFeatures-class.Rd:12: file link 'DataFrame' in package 'S4Vectors' does not exist and so has been treated as a topic
mgFeatures html
mock_mgF html
mock_query_df html
newMgDb html
reexports html
Rd warning: C:/Users/biocbuild/bbs-3.7-bioc/tmpdir/RtmpCwfh47/R.INSTALL202c35083b2d/metagenomeFeatures/man/reexports.Rd:14: file link '%>%' in package 'magrittr' does not exist and so has been treated as a topic
select-MgDb-method html
show-MgDb-method html
taxa_ html
** building package indices
** installing vignettes
** testing if installed package can be loaded
Warning: replacing previous import 'lazyeval::is_formula' by 'purrr::is_formula' when loading 'metagenomeFeatures'
Warning: replacing previous import 'lazyeval::is_atomic' by 'purrr::is_atomic' when loading 'metagenomeFeatures'
In R CMD INSTALL
install for x64
* installing *source* package 'metagenomeFeatures' ...
** testing if installed package can be loaded
Warning: replacing previous import 'lazyeval::is_formula' by 'purrr::is_formula' when loading 'metagenomeFeatures'
Warning: replacing previous import 'lazyeval::is_atomic' by 'purrr::is_atomic' when loading 'metagenomeFeatures'
* MD5 sums
packaged installation of 'metagenomeFeatures' as metagenomeFeatures_2.0.0.zip
* DONE (metagenomeFeatures)
In R CMD INSTALL
In R CMD INSTALL