| Back to Multiple platform build/check report for BioC 3.7 |
|
This page was generated on 2018-10-17 08:26:28 -0400 (Wed, 17 Oct 2018).
| Package 871/1561 | Hostname | OS / Arch | INSTALL | BUILD | CHECK | BUILD BIN | ||||||
| metagene 2.12.2 Charles Joly Beauparlant
| malbec2 | Linux (Ubuntu 16.04.1 LTS) / x86_64 | OK | [ OK ] | OK | |||||||
| tokay2 | Windows Server 2012 R2 Standard / x64 | OK | OK | ERROR | OK | |||||||
| merida2 | OS X 10.11.6 El Capitan / x86_64 | OK | OK | OK | OK |
| Package: metagene |
| Version: 2.12.2 |
| Command: /home/biocbuild/bbs-3.7-bioc/R/bin/R CMD build --keep-empty-dirs --no-resave-data metagene |
| StartedAt: 2018-10-15 20:09:38 -0400 (Mon, 15 Oct 2018) |
| EndedAt: 2018-10-15 20:11:29 -0400 (Mon, 15 Oct 2018) |
| EllapsedTime: 111.1 seconds |
| RetCode: 0 |
| Status: OK |
| PackageFile: metagene_2.12.2.tar.gz |
| PackageFileSize: 6.529 MiB |
##############################################################################
##############################################################################
###
### Running command:
###
### /home/biocbuild/bbs-3.7-bioc/R/bin/R CMD build --keep-empty-dirs --no-resave-data metagene
###
##############################################################################
##############################################################################
* checking for file ‘metagene/DESCRIPTION’ ... OK
* preparing ‘metagene’:
* checking DESCRIPTION meta-information ... OK
* installing the package to build vignettes
* creating vignettes ... OK
Warning: ‘inst/doc’ file
‘metagene_rnaseq.R’
ignored as vignettes have been rebuilt.
Run R CMD build with --no-build-vignettes to prevent rebuilding.
* checking for LF line-endings in source and make files and shell scripts
* checking for empty or unneeded directories
* looking to see if a ‘data/datalist’ file should be added
* building ‘metagene_2.12.2.tar.gz’