| Back to Multiple platform build/check report for BioC 3.7 |
|
This page was generated on 2018-10-17 08:52:49 -0400 (Wed, 17 Oct 2018).
| Package 875/1561 | Hostname | OS / Arch | INSTALL | BUILD | CHECK | BUILD BIN | ||||||
| metaMS 1.16.0 Ron Wehrens
| malbec2 | Linux (Ubuntu 16.04.1 LTS) / x86_64 | OK | OK | WARNINGS | |||||||
| tokay2 | Windows Server 2012 R2 Standard / x64 | OK | OK | WARNINGS | OK | |||||||
| merida2 | OS X 10.11.6 El Capitan / x86_64 | OK | OK | WARNINGS | [ OK ] |
| Package: metaMS |
| Version: 1.16.0 |
| Command: rm -rf metaMS.buildbin-libdir && mkdir metaMS.buildbin-libdir && /Users/biocbuild/BBS/utils/build-universal.sh metaMS_1.16.0.tar.gz /Library/Frameworks/R.framework/Versions/Current/Resources/bin/R metaMS.buildbin-libdir |
| StartedAt: 2018-10-17 01:40:18 -0400 (Wed, 17 Oct 2018) |
| EndedAt: 2018-10-17 01:41:06 -0400 (Wed, 17 Oct 2018) |
| EllapsedTime: 47.8 seconds |
| RetCode: 0 |
| Status: OK |
| PackageFile: metaMS_1.16.0.tgz |
| PackageFileSize: 4.063 MiB |
############################################################################## ############################################################################## ### ### Running command: ### ### rm -rf metaMS.buildbin-libdir && mkdir metaMS.buildbin-libdir && /Users/biocbuild/BBS/utils/build-universal.sh metaMS_1.16.0.tar.gz /Library/Frameworks/R.framework/Versions/Current/Resources/bin/R metaMS.buildbin-libdir ### ############################################################################## ############################################################################## >>>>>>> >>>>>>> INSTALLATION WITH 'R CMD INSTALL --preclean --no-multiarch --library=metaMS.buildbin-libdir metaMS_1.16.0.tar.gz' >>>>>>> * installing *source* package ‘metaMS’ ... ** R ** data ** inst ** byte-compile and prepare package for lazy loading ** help *** installing help indices ** building package indices ** installing vignettes ** testing if installed package can be loaded * DONE (metaMS)