| Back to Multiple platform build/check report for BioC 3.7 |
|
This page was generated on 2018-10-17 08:52:38 -0400 (Wed, 17 Oct 2018).
| Package 834/1561 | Hostname | OS / Arch | INSTALL | BUILD | CHECK | BUILD BIN | ||||||
| massiR 1.16.0 Sam Buckberry
| malbec2 | Linux (Ubuntu 16.04.1 LTS) / x86_64 | OK | OK | OK | |||||||
| tokay2 | Windows Server 2012 R2 Standard / x64 | OK | OK | OK | OK | |||||||
| merida2 | OS X 10.11.6 El Capitan / x86_64 | OK | OK | OK | [ OK ] |
| Package: massiR |
| Version: 1.16.0 |
| Command: rm -rf massiR.buildbin-libdir && mkdir massiR.buildbin-libdir && /Users/biocbuild/BBS/utils/build-universal.sh massiR_1.16.0.tar.gz /Library/Frameworks/R.framework/Versions/Current/Resources/bin/R massiR.buildbin-libdir |
| StartedAt: 2018-10-17 01:38:15 -0400 (Wed, 17 Oct 2018) |
| EndedAt: 2018-10-17 01:39:04 -0400 (Wed, 17 Oct 2018) |
| EllapsedTime: 49.4 seconds |
| RetCode: 0 |
| Status: OK |
| PackageFile: massiR_1.16.0.tgz |
| PackageFileSize: 1.13 MiB |
############################################################################## ############################################################################## ### ### Running command: ### ### rm -rf massiR.buildbin-libdir && mkdir massiR.buildbin-libdir && /Users/biocbuild/BBS/utils/build-universal.sh massiR_1.16.0.tar.gz /Library/Frameworks/R.framework/Versions/Current/Resources/bin/R massiR.buildbin-libdir ### ############################################################################## ############################################################################## >>>>>>> >>>>>>> INSTALLATION WITH 'R CMD INSTALL --preclean --no-multiarch --library=massiR.buildbin-libdir massiR_1.16.0.tar.gz' >>>>>>> * installing *source* package ‘massiR’ ... ** R ** data *** moving datasets to lazyload DB ** inst ** byte-compile and prepare package for lazy loading ** help *** installing help indices ** building package indices ** installing vignettes ** testing if installed package can be loaded * DONE (massiR)