| Back to Multiple platform build/check report for BioC 3.7 |
|
This page was generated on 2018-10-17 08:24:05 -0400 (Wed, 17 Oct 2018).
| Package 832/1561 | Hostname | OS / Arch | INSTALL | BUILD | CHECK | BUILD BIN | ||||||
| maskBAD 1.24.0 Michael Dannemann
| malbec2 | Linux (Ubuntu 16.04.1 LTS) / x86_64 | OK | [ OK ] | OK | |||||||
| tokay2 | Windows Server 2012 R2 Standard / x64 | OK | OK | OK | OK | |||||||
| merida2 | OS X 10.11.6 El Capitan / x86_64 | OK | OK | OK | OK |
| Package: maskBAD |
| Version: 1.24.0 |
| Command: /home/biocbuild/bbs-3.7-bioc/R/bin/R CMD build --keep-empty-dirs --no-resave-data maskBAD |
| StartedAt: 2018-10-15 19:25:22 -0400 (Mon, 15 Oct 2018) |
| EndedAt: 2018-10-15 19:26:51 -0400 (Mon, 15 Oct 2018) |
| EllapsedTime: 88.9 seconds |
| RetCode: 0 |
| Status: OK |
| PackageFile: maskBAD_1.24.0.tar.gz |
| PackageFileSize: 732.3 KiB |
############################################################################## ############################################################################## ### ### Running command: ### ### /home/biocbuild/bbs-3.7-bioc/R/bin/R CMD build --keep-empty-dirs --no-resave-data maskBAD ### ############################################################################## ############################################################################## * checking for file ‘maskBAD/DESCRIPTION’ ... OK * preparing ‘maskBAD’: * checking DESCRIPTION meta-information ... OK * installing the package to build vignettes * creating vignettes ... OK * checking for LF line-endings in source and make files and shell scripts * checking for empty or unneeded directories * looking to see if a ‘data/datalist’ file should be added * building ‘maskBAD_1.24.0.tar.gz’