| Back to Multiple platform build/check report for BioC 3.7 |
|
This page was generated on 2018-10-17 08:32:34 -0400 (Wed, 17 Oct 2018).
| Package 812/1561 | Hostname | OS / Arch | INSTALL | BUILD | CHECK | BUILD BIN | ||||||
| maanova 1.50.0 Keith Sheppard
| malbec2 | Linux (Ubuntu 16.04.1 LTS) / x86_64 | OK | OK | OK | |||||||
| tokay2 | Windows Server 2012 R2 Standard / x64 | OK | OK | OK | [ OK ] | |||||||
| merida2 | OS X 10.11.6 El Capitan / x86_64 | OK | OK | WARNINGS | OK |
| Package: maanova |
| Version: 1.50.0 |
| Command: rm -rf maanova.buildbin-libdir && mkdir maanova.buildbin-libdir && C:\Users\biocbuild\bbs-3.7-bioc\R\bin\R.exe CMD INSTALL --merge-multiarch --build --library=maanova.buildbin-libdir maanova_1.50.0.tar.gz |
| StartedAt: 2018-10-17 06:37:35 -0400 (Wed, 17 Oct 2018) |
| EndedAt: 2018-10-17 06:38:07 -0400 (Wed, 17 Oct 2018) |
| EllapsedTime: 32.0 seconds |
| RetCode: 0 |
| Status: OK |
| PackageFile: maanova_1.50.0.zip |
| PackageFileSize: 1.276 MiB |
##############################################################################
##############################################################################
###
### Running command:
###
### rm -rf maanova.buildbin-libdir && mkdir maanova.buildbin-libdir && C:\Users\biocbuild\bbs-3.7-bioc\R\bin\R.exe CMD INSTALL --merge-multiarch --build --library=maanova.buildbin-libdir maanova_1.50.0.tar.gz
###
##############################################################################
##############################################################################
install for i386
* installing *source* package 'maanova' ...
** libs
C:/Rtools/mingw_32/bin/gcc -I"C:/Users/BIOCBU˜1/BBS-3˜1.7-B/R/include" -DNDEBUG -I"C:/extsoft/include" -O3 -Wall -std=gnu99 -mtune=generic -c makeratio.c -o makeratio.o
C:/Rtools/mingw_32/bin/gcc -I"C:/Users/BIOCBU˜1/BBS-3˜1.7-B/R/include" -DNDEBUG -I"C:/extsoft/include" -O3 -Wall -std=gnu99 -mtune=generic -c masvd.c -o masvd.o
masvd.c:114:2: warning: "/*" within comment [-Wcomment]
/* work on a copy of x */
^
masvd.c:154:1: warning: "/*" within comment [-Wcomment]
/*#ifndef IEEE_754
^
masvd.c:161:5: warning: "/*" within comment [-Wcomment]
/* work on a copy of x */
^
masvd.c:165:2: warning: "/*" within comment [-Wcomment]
/* ask for optimal size of work array */
^
masvd.c:189:2: warning: "/*" within comment [-Wcomment]
/* ask for optimal size of work array */
^
C:/Rtools/mingw_32/bin/gcc -I"C:/Users/BIOCBU˜1/BBS-3˜1.7-B/R/include" -DNDEBUG -I"C:/extsoft/include" -O3 -Wall -std=gnu99 -mtune=generic -c shift.c -o shift.o
shift.c: In function 'shift':
shift.c:27:13: warning: unused variable 'k' [-Wunused-variable]
int i, j, k;
^
C:/Rtools/mingw_32/bin/gcc -I"C:/Users/BIOCBU˜1/BBS-3˜1.7-B/R/include" -DNDEBUG -I"C:/extsoft/include" -O3 -Wall -std=gnu99 -mtune=generic -c util.c -o util.o
C:/Rtools/mingw_32/bin/gcc -shared -s -static-libgcc -o maanova.dll tmp.def makeratio.o masvd.o shift.o util.o -LC:/Users/BIOCBU˜1/BBS-3˜1.7-B/R/bin/i386 -lRlapack -LC:/extsoft/lib/i386 -LC:/extsoft/lib -LC:/Users/BIOCBU˜1/BBS-3˜1.7-B/R/bin/i386 -lR
installing to C:/Users/biocbuild/bbs-3.7-bioc/meat/maanova.buildbin-libdir/maanova/libs/i386
** R
** data
** demo
** inst
** byte-compile and prepare package for lazy loading
** help
*** installing help indices
converting help for package 'maanova'
finding HTML links ... done
PairContrast html
Rmaanova.version html
abf1 html
adjPval html
arrayview html
consensus html
dyeswapfilter html
fill.missing html
fitmaanova html
fom html
geneprofile html
gridcheck html
kidney html
maanova-internal html
macluster html
matest html
read.madata html
resiplot html
riplot html
subset.madata html
summarytable html
transform.madata html
varplot html
volcano html
write.madata html
** building package indices
** installing vignettes
** testing if installed package can be loaded
In R CMD INSTALL
install for x64
* installing *source* package 'maanova' ...
** libs
C:/Rtools/mingw_64/bin/gcc -I"C:/Users/BIOCBU˜1/BBS-3˜1.7-B/R/include" -DNDEBUG -I"C:/extsoft/include" -O2 -Wall -std=gnu99 -mtune=generic -c makeratio.c -o makeratio.o
C:/Rtools/mingw_64/bin/gcc -I"C:/Users/BIOCBU˜1/BBS-3˜1.7-B/R/include" -DNDEBUG -I"C:/extsoft/include" -O2 -Wall -std=gnu99 -mtune=generic -c masvd.c -o masvd.o
masvd.c:114:2: warning: "/*" within comment [-Wcomment]
/* work on a copy of x */
^
masvd.c:154:1: warning: "/*" within comment [-Wcomment]
/*#ifndef IEEE_754
^
masvd.c:161:5: warning: "/*" within comment [-Wcomment]
/* work on a copy of x */
^
masvd.c:165:2: warning: "/*" within comment [-Wcomment]
/* ask for optimal size of work array */
^
masvd.c:189:2: warning: "/*" within comment [-Wcomment]
/* ask for optimal size of work array */
^
C:/Rtools/mingw_64/bin/gcc -I"C:/Users/BIOCBU˜1/BBS-3˜1.7-B/R/include" -DNDEBUG -I"C:/extsoft/include" -O2 -Wall -std=gnu99 -mtune=generic -c shift.c -o shift.o
shift.c: In function 'shift':
shift.c:27:13: warning: unused variable 'k' [-Wunused-variable]
int i, j, k;
^
C:/Rtools/mingw_64/bin/gcc -I"C:/Users/BIOCBU˜1/BBS-3˜1.7-B/R/include" -DNDEBUG -I"C:/extsoft/include" -O2 -Wall -std=gnu99 -mtune=generic -c util.c -o util.o
C:/Rtools/mingw_64/bin/gcc -shared -s -static-libgcc -o maanova.dll tmp.def makeratio.o masvd.o shift.o util.o -LC:/Users/BIOCBU˜1/BBS-3˜1.7-B/R/bin/x64 -lRlapack -LC:/extsoft/lib/x64 -LC:/extsoft/lib -LC:/Users/BIOCBU˜1/BBS-3˜1.7-B/R/bin/x64 -lR
installing to C:/Users/biocbuild/bbs-3.7-bioc/meat/maanova.buildbin-libdir/maanova/libs/x64
** testing if installed package can be loaded
* MD5 sums
packaged installation of 'maanova' as maanova_1.50.0.zip
* DONE (maanova)
In R CMD INSTALL
In R CMD INSTALL