| Back to Multiple platform build/check report for BioC 3.7 |
|
This page was generated on 2018-10-17 08:32:50 -0400 (Wed, 17 Oct 2018).
| Package 796/1561 | Hostname | OS / Arch | INSTALL | BUILD | CHECK | BUILD BIN | ||||||
| logicFS 1.50.0 Holger Schwender
| malbec2 | Linux (Ubuntu 16.04.1 LTS) / x86_64 | OK | OK | OK | |||||||
| tokay2 | Windows Server 2012 R2 Standard / x64 | OK | OK | OK | [ OK ] | |||||||
| merida2 | OS X 10.11.6 El Capitan / x86_64 | OK | OK | OK | OK |
| Package: logicFS |
| Version: 1.50.0 |
| Command: rm -rf logicFS.buildbin-libdir && mkdir logicFS.buildbin-libdir && C:\Users\biocbuild\bbs-3.7-bioc\R\bin\R.exe CMD INSTALL --merge-multiarch --build --library=logicFS.buildbin-libdir logicFS_1.50.0.tar.gz |
| StartedAt: 2018-10-17 06:37:00 -0400 (Wed, 17 Oct 2018) |
| EndedAt: 2018-10-17 06:37:14 -0400 (Wed, 17 Oct 2018) |
| EllapsedTime: 13.2 seconds |
| RetCode: 0 |
| Status: OK |
| PackageFile: logicFS_1.50.0.zip |
| PackageFileSize: 445.7 KiB |
##############################################################################
##############################################################################
###
### Running command:
###
### rm -rf logicFS.buildbin-libdir && mkdir logicFS.buildbin-libdir && C:\Users\biocbuild\bbs-3.7-bioc\R\bin\R.exe CMD INSTALL --merge-multiarch --build --library=logicFS.buildbin-libdir logicFS_1.50.0.tar.gz
###
##############################################################################
##############################################################################
install for i386
* installing *source* package 'logicFS' ...
** R
** data
** inst
** byte-compile and prepare package for lazy loading
** help
*** installing help indices
converting help for package 'logicFS'
finding HTML links ... done
data.logicfs html
getMatEval html
logic.bagging html
logic.oob html
logic.pimp html
finding level-2 HTML links ... done
logicFS-internal html
logicFS html
make.snp.dummy html
mlogreg html
plot.logicFS html
predict.logicBagg html
predict.mlogreg html
print.logicFS html
vim.approxPval html
vim.chisq html
vim.ebam html
vim.individual html
vim.logicFS html
vim.norm html
vim.permSet html
vim.set html
** building package indices
** installing vignettes
** testing if installed package can be loaded
In R CMD INSTALL
install for x64
* installing *source* package 'logicFS' ...
** testing if installed package can be loaded
* MD5 sums
packaged installation of 'logicFS' as logicFS_1.50.0.zip
* DONE (logicFS)
In R CMD INSTALL
In R CMD INSTALL