| Back to Multiple platform build/check report for BioC 3.7 |
|
This page was generated on 2018-10-17 08:36:31 -0400 (Wed, 17 Oct 2018).
| Package 792/1561 | Hostname | OS / Arch | INSTALL | BUILD | CHECK | BUILD BIN | ||||||
| lmdme 1.22.0 Cristobal Fresno
| malbec2 | Linux (Ubuntu 16.04.1 LTS) / x86_64 | OK | OK | OK | |||||||
| tokay2 | Windows Server 2012 R2 Standard / x64 | OK | OK | OK | [ OK ] | |||||||
| merida2 | OS X 10.11.6 El Capitan / x86_64 | OK | OK | OK | OK |
| Package: lmdme |
| Version: 1.22.0 |
| Command: rm -rf lmdme.buildbin-libdir && mkdir lmdme.buildbin-libdir && C:\Users\biocbuild\bbs-3.7-bioc\R\bin\R.exe CMD INSTALL --merge-multiarch --build --library=lmdme.buildbin-libdir lmdme_1.22.0.tar.gz |
| StartedAt: 2018-10-17 06:36:52 -0400 (Wed, 17 Oct 2018) |
| EndedAt: 2018-10-17 06:37:04 -0400 (Wed, 17 Oct 2018) |
| EllapsedTime: 12.1 seconds |
| RetCode: 0 |
| Status: OK |
| PackageFile: lmdme_1.22.0.zip |
| PackageFileSize: 554.8 KiB |
##############################################################################
##############################################################################
###
### Running command:
###
### rm -rf lmdme.buildbin-libdir && mkdir lmdme.buildbin-libdir && C:\Users\biocbuild\bbs-3.7-bioc\R\bin\R.exe CMD INSTALL --merge-multiarch --build --library=lmdme.buildbin-libdir lmdme_1.22.0.tar.gz
###
##############################################################################
##############################################################################
install for i386
* installing *source* package 'lmdme' ...
** R
** inst
** byte-compile and prepare package for lazy loading
Creating a new generic function for 'p.adjust' in package 'lmdme'
** help
*** installing help indices
converting help for package 'lmdme'
finding HTML links ... done
lmdme-Class html
finding level-2 HTML links ... done
lmdme-biplot html
lmdme-decomposition html
lmdme-getters html
lmdme-leverage html
lmdme-lmdme html
lmdme-loadingplot html
lmdme-padjust html
lmdme-permutation html
lmdme-printshow html
lmdme-screeplot html
** building package indices
** installing vignettes
** testing if installed package can be loaded
In R CMD INSTALL
install for x64
* installing *source* package 'lmdme' ...
** testing if installed package can be loaded
* MD5 sums
packaged installation of 'lmdme' as lmdme_1.22.0.zip
* DONE (lmdme)
In R CMD INSTALL
In R CMD INSTALL