| Back to Multiple platform build/check report for BioC 3.7 |
|
This page was generated on 2018-10-17 08:33:55 -0400 (Wed, 17 Oct 2018).
| Package 760/1561 | Hostname | OS / Arch | INSTALL | BUILD | CHECK | BUILD BIN | ||||||
| iterativeBMA 1.38.0 Ka Yee Yeung
| malbec2 | Linux (Ubuntu 16.04.1 LTS) / x86_64 | OK | OK | OK | |||||||
| tokay2 | Windows Server 2012 R2 Standard / x64 | [ OK ] | OK | OK | OK | |||||||
| merida2 | OS X 10.11.6 El Capitan / x86_64 | OK | OK | OK | OK |
| Package: iterativeBMA |
| Version: 1.38.0 |
| Command: C:\cygwin\bin\curl.exe -O https://malbec2.bioconductor.org/BBS/3.7/bioc/src/contrib/iterativeBMA_1.38.0.tar.gz && rm -rf iterativeBMA.buildbin-libdir && mkdir iterativeBMA.buildbin-libdir && C:\Users\biocbuild\bbs-3.7-bioc\R\bin\R.exe CMD INSTALL --merge-multiarch --build --library=iterativeBMA.buildbin-libdir iterativeBMA_1.38.0.tar.gz && C:\Users\biocbuild\bbs-3.7-bioc\R\bin\R.exe CMD INSTALL iterativeBMA_1.38.0.zip && rm iterativeBMA_1.38.0.tar.gz iterativeBMA_1.38.0.zip |
| StartedAt: 2018-10-16 19:07:52 -0400 (Tue, 16 Oct 2018) |
| EndedAt: 2018-10-16 19:08:53 -0400 (Tue, 16 Oct 2018) |
| EllapsedTime: 61.0 seconds |
| RetCode: 0 |
| Status: OK |
##############################################################################
##############################################################################
###
### Running command:
###
### C:\cygwin\bin\curl.exe -O https://malbec2.bioconductor.org/BBS/3.7/bioc/src/contrib/iterativeBMA_1.38.0.tar.gz && rm -rf iterativeBMA.buildbin-libdir && mkdir iterativeBMA.buildbin-libdir && C:\Users\biocbuild\bbs-3.7-bioc\R\bin\R.exe CMD INSTALL --merge-multiarch --build --library=iterativeBMA.buildbin-libdir iterativeBMA_1.38.0.tar.gz && C:\Users\biocbuild\bbs-3.7-bioc\R\bin\R.exe CMD INSTALL iterativeBMA_1.38.0.zip && rm iterativeBMA_1.38.0.tar.gz iterativeBMA_1.38.0.zip
###
##############################################################################
##############################################################################
% Total % Received % Xferd Average Speed Time Time Time Current
Dload Upload Total Spent Left Speed
0 0 0 0 0 0 0 0 --:--:-- --:--:-- --:--:-- 0
100 41032 100 41032 0 0 828k 0 --:--:-- --:--:-- --:--:-- 977k
install for i386
* installing *source* package 'iterativeBMA' ...
** R
** data
** byte-compile and prepare package for lazy loading
** help
*** installing help indices
converting help for package 'iterativeBMA'
finding HTML links ... done
BssWssFast html
bma_predict html
brier_score html
imageplot_iterate_bma html
iterateBMAglm_train html
iterateBMAglm_train_predict html
iterateBMAglm_train_predict_test html
iterateBMAglm_wrapper html
iterativeBMA-internal html
iterativeBMA-package html
testClass html
testData html
trainClass html
trainData html
** building package indices
** installing vignettes
** testing if installed package can be loaded
In R CMD INSTALL
install for x64
* installing *source* package 'iterativeBMA' ...
** testing if installed package can be loaded
* MD5 sums
packaged installation of 'iterativeBMA' as iterativeBMA_1.38.0.zip
* DONE (iterativeBMA)
In R CMD INSTALL
In R CMD INSTALL
* installing to library 'C:/Users/biocbuild/bbs-3.7-bioc/R/library'
package 'iterativeBMA' successfully unpacked and MD5 sums checked
In R CMD INSTALL