| Back to Multiple platform build/check report for BioC 3.7 |
|
This page was generated on 2018-10-17 08:35:51 -0400 (Wed, 17 Oct 2018).
| Package 754/1561 | Hostname | OS / Arch | INSTALL | BUILD | CHECK | BUILD BIN | ||||||
| isobar 1.26.0 Florian P Breitwieser
| malbec2 | Linux (Ubuntu 16.04.1 LTS) / x86_64 | OK | OK | WARNINGS | |||||||
| tokay2 | Windows Server 2012 R2 Standard / x64 | OK | [ OK ] | WARNINGS | OK | |||||||
| merida2 | OS X 10.11.6 El Capitan / x86_64 | OK | OK | WARNINGS | OK |
| Package: isobar |
| Version: 1.26.0 |
| Command: chmod a+r isobar -R && C:\Users\biocbuild\bbs-3.7-bioc\R\bin\R.exe CMD build --keep-empty-dirs --no-resave-data isobar |
| StartedAt: 2018-10-16 21:32:16 -0400 (Tue, 16 Oct 2018) |
| EndedAt: 2018-10-16 21:34:08 -0400 (Tue, 16 Oct 2018) |
| EllapsedTime: 111.2 seconds |
| RetCode: 0 |
| Status: OK |
| PackageFile: isobar_1.26.0.tar.gz |
| PackageFileSize: 2.863 MiB |
##############################################################################
##############################################################################
###
### Running command:
###
### chmod a+r isobar -R && C:\Users\biocbuild\bbs-3.7-bioc\R\bin\R.exe CMD build --keep-empty-dirs --no-resave-data isobar
###
##############################################################################
##############################################################################
* checking for file 'isobar/DESCRIPTION' ... OK
* preparing 'isobar':
* checking DESCRIPTION meta-information ... OK
* installing the package to build vignettes
* creating vignettes ... OK
Warning: 'inst/doc' files
'isobar-devel.R', 'isobar-ptm.R', 'isobar-usecases.R'
ignored as vignettes have been rebuilt.
Run R CMD build with --no-build-vignettes to prevent rebuilding.
* checking for LF line-endings in source and make files and shell scripts
* checking for empty or unneeded directories
* looking to see if a 'data/datalist' file should be added
* building 'isobar_1.26.0.tar.gz'