| Back to Multiple platform build/check report for BioC 3.7 | 
 | 
This page was generated on 2018-10-17 08:48:45 -0400 (Wed, 17 Oct 2018).
| Package 724/1561 | Hostname | OS / Arch | INSTALL | BUILD | CHECK | BUILD BIN | ||||||
| imageHTS 1.30.0 Joseph Barry 
 | malbec2 | Linux (Ubuntu 16.04.1 LTS) / x86_64 | OK | ERROR | skipped | |||||||
| tokay2 | Windows Server 2012 R2 Standard / x64 | OK | ERROR | skipped | skipped | |||||||
| merida2 | OS X 10.11.6 El Capitan / x86_64 | OK | OK | OK | [ OK ] |  | 
| Package: imageHTS | 
| Version: 1.30.0 | 
| Command: rm -rf imageHTS.buildbin-libdir && mkdir imageHTS.buildbin-libdir && /Users/biocbuild/BBS/utils/build-universal.sh imageHTS_1.30.0.tar.gz /Library/Frameworks/R.framework/Versions/Current/Resources/bin/R imageHTS.buildbin-libdir | 
| StartedAt: 2018-10-17 01:31:33 -0400 (Wed, 17 Oct 2018) | 
| EndedAt: 2018-10-17 01:32:35 -0400 (Wed, 17 Oct 2018) | 
| EllapsedTime: 62.0 seconds | 
| RetCode: 0 | 
| Status: OK | 
| PackageFile: imageHTS_1.30.0.tgz | 
| PackageFileSize: 2.455 MiB | 
############################################################################## ############################################################################## ### ### Running command: ### ### rm -rf imageHTS.buildbin-libdir && mkdir imageHTS.buildbin-libdir && /Users/biocbuild/BBS/utils/build-universal.sh imageHTS_1.30.0.tar.gz /Library/Frameworks/R.framework/Versions/Current/Resources/bin/R imageHTS.buildbin-libdir ### ############################################################################## ############################################################################## >>>>>>> >>>>>>> INSTALLATION WITH 'R CMD INSTALL --preclean --no-multiarch --library=imageHTS.buildbin-libdir imageHTS_1.30.0.tar.gz' >>>>>>> * installing *source* package ‘imageHTS’ ... ** R ** inst ** byte-compile and prepare package for lazy loading ** help *** installing help indices ** building package indices ** installing vignettes ** testing if installed package can be loaded * DONE (imageHTS)