| Back to Multiple platform build/check report for BioC 3.7 | 
  | 
This page was generated on 2018-10-17 08:51:00 -0400 (Wed, 17 Oct 2018).
| Package 723/1561 | Hostname | OS / Arch | INSTALL | BUILD | CHECK | BUILD BIN | ||||||
| illuminaio 0.22.0 Kasper Daniel Hansen 
  | malbec2 | Linux (Ubuntu 16.04.1 LTS) / x86_64 | OK | OK | OK | |||||||
| tokay2 | Windows Server 2012 R2 Standard / x64 | OK | OK | OK | OK | |||||||
| merida2 | OS X 10.11.6 El Capitan / x86_64 | OK | [ OK ] | OK | OK | 
| Package: illuminaio | 
| Version: 0.22.0 | 
| Command: /Library/Frameworks/R.framework/Versions/Current/Resources/bin/R CMD build --keep-empty-dirs --no-resave-data illuminaio | 
| StartedAt: 2018-10-16 17:09:46 -0400 (Tue, 16 Oct 2018) | 
| EndedAt: 2018-10-16 17:10:05 -0400 (Tue, 16 Oct 2018) | 
| EllapsedTime: 18.7 seconds | 
| RetCode: 0 | 
| Status: OK | 
| PackageFile: illuminaio_0.22.0.tar.gz | 
| PackageFileSize: 334.3 KiB | 
############################################################################## ############################################################################## ### ### Running command: ### ### /Library/Frameworks/R.framework/Versions/Current/Resources/bin/R CMD build --keep-empty-dirs --no-resave-data illuminaio ### ############################################################################## ############################################################################## * checking for file ‘illuminaio/DESCRIPTION’ ... OK * preparing ‘illuminaio’: * checking DESCRIPTION meta-information ... OK * cleaning src * installing the package to build vignettes * creating vignettes ... OK * cleaning src * checking for LF line-endings in source and make files and shell scripts * checking for empty or unneeded directories * building ‘illuminaio_0.22.0.tar.gz’