| Back to Multiple platform build/check report for BioC 3.7 | 
  | 
This page was generated on 2018-10-17 08:49:07 -0400 (Wed, 17 Oct 2018).
| Package 706/1561 | Hostname | OS / Arch | INSTALL | BUILD | CHECK | BUILD BIN | ||||||
| ibh 1.28.0 Kircicegi Korkmaz 
  | malbec2 | Linux (Ubuntu 16.04.1 LTS) / x86_64 | OK | OK | OK | |||||||
| tokay2 | Windows Server 2012 R2 Standard / x64 | OK | OK | OK | OK | |||||||
| merida2 | OS X 10.11.6 El Capitan / x86_64 | OK | [ OK ] | OK | OK | 
| Package: ibh | 
| Version: 1.28.0 | 
| Command: /Library/Frameworks/R.framework/Versions/Current/Resources/bin/R CMD build --keep-empty-dirs --no-resave-data ibh | 
| StartedAt: 2018-10-16 16:49:24 -0400 (Tue, 16 Oct 2018) | 
| EndedAt: 2018-10-16 16:49:36 -0400 (Tue, 16 Oct 2018) | 
| EllapsedTime: 12.5 seconds | 
| RetCode: 0 | 
| Status: OK | 
| PackageFile: ibh_1.28.0.tar.gz | 
| PackageFileSize: 128.8 KiB | 
############################################################################## ############################################################################## ### ### Running command: ### ### /Library/Frameworks/R.framework/Versions/Current/Resources/bin/R CMD build --keep-empty-dirs --no-resave-data ibh ### ############################################################################## ############################################################################## * checking for file ‘ibh/DESCRIPTION’ ... OK * preparing ‘ibh’: * checking DESCRIPTION meta-information ... OK * installing the package to build vignettes * creating vignettes ... OK * checking for LF line-endings in source and make files and shell scripts * checking for empty or unneeded directories * building ‘ibh_1.28.0.tar.gz’