| Back to Multiple platform build/check report for BioC 3.7 | 
 | 
This page was generated on 2018-10-17 08:28:27 -0400 (Wed, 17 Oct 2018).
| Package 708/1561 | Hostname | OS / Arch | INSTALL | BUILD | CHECK | BUILD BIN | ||||||
| iCARE 1.8.0 Bill Wheeler 
 | malbec2 | Linux (Ubuntu 16.04.1 LTS) / x86_64 | OK | [ OK ] | OK |  | ||||||
| tokay2 | Windows Server 2012 R2 Standard / x64 | OK | OK | OK | OK |  | ||||||
| merida2 | OS X 10.11.6 El Capitan / x86_64 | OK | OK | WARNINGS | OK |  | 
| Package: iCARE | 
| Version: 1.8.0 | 
| Command: /home/biocbuild/bbs-3.7-bioc/R/bin/R CMD build --keep-empty-dirs --no-resave-data iCARE | 
| StartedAt: 2018-10-15 20:50:45 -0400 (Mon, 15 Oct 2018) | 
| EndedAt: 2018-10-15 20:51:11 -0400 (Mon, 15 Oct 2018) | 
| EllapsedTime: 25.6 seconds | 
| RetCode: 0 | 
| Status: OK | 
| PackageFile: iCARE_1.8.0.tar.gz | 
| PackageFileSize: 169.1 KiB | 
############################################################################## ############################################################################## ### ### Running command: ### ### /home/biocbuild/bbs-3.7-bioc/R/bin/R CMD build --keep-empty-dirs --no-resave-data iCARE ### ############################################################################## ############################################################################## * checking for file ‘iCARE/DESCRIPTION’ ... OK * preparing ‘iCARE’: * checking DESCRIPTION meta-information ... OK * cleaning src * installing the package to build vignettes * creating vignettes ... OK * cleaning src * checking for LF line-endings in source and make files and shell scripts * checking for empty or unneeded directories * looking to see if a ‘data/datalist’ file should be added * building ‘iCARE_1.8.0.tar.gz’