| Back to Multiple platform build/check report for BioC 3.7 |
|
This page was generated on 2018-10-17 08:53:25 -0400 (Wed, 17 Oct 2018).
| Package 690/1561 | Hostname | OS / Arch | INSTALL | BUILD | CHECK | BUILD BIN | ||||||
| hiReadsProcessor 1.16.0 Nirav V Malani
| malbec2 | Linux (Ubuntu 16.04.1 LTS) / x86_64 | OK | OK | OK | |||||||
| tokay2 | Windows Server 2012 R2 Standard / x64 | ...NOT SUPPORTED... | ||||||||||
| merida2 | OS X 10.11.6 El Capitan / x86_64 | OK | OK | OK | [ OK ] | |||||||
| Package: hiReadsProcessor |
| Version: 1.16.0 |
| Command: rm -rf hiReadsProcessor.buildbin-libdir && mkdir hiReadsProcessor.buildbin-libdir && /Users/biocbuild/BBS/utils/build-universal.sh hiReadsProcessor_1.16.0.tar.gz /Library/Frameworks/R.framework/Versions/Current/Resources/bin/R hiReadsProcessor.buildbin-libdir |
| StartedAt: 2018-10-17 01:29:49 -0400 (Wed, 17 Oct 2018) |
| EndedAt: 2018-10-17 01:30:46 -0400 (Wed, 17 Oct 2018) |
| EllapsedTime: 57.0 seconds |
| RetCode: 0 |
| Status: OK |
| PackageFile: hiReadsProcessor_1.16.0.tgz |
| PackageFileSize: 3.005 MiB |
############################################################################## ############################################################################## ### ### Running command: ### ### rm -rf hiReadsProcessor.buildbin-libdir && mkdir hiReadsProcessor.buildbin-libdir && /Users/biocbuild/BBS/utils/build-universal.sh hiReadsProcessor_1.16.0.tar.gz /Library/Frameworks/R.framework/Versions/Current/Resources/bin/R hiReadsProcessor.buildbin-libdir ### ############################################################################## ############################################################################## >>>>>>> >>>>>>> INSTALLATION WITH 'R CMD INSTALL --preclean --no-multiarch --library=hiReadsProcessor.buildbin-libdir hiReadsProcessor_1.16.0.tar.gz' >>>>>>> * installing *source* package ‘hiReadsProcessor’ ... ** R ** data ** inst ** byte-compile and prepare package for lazy loading ** help *** installing help indices ** building package indices ** installing vignettes ** testing if installed package can be loaded * DONE (hiReadsProcessor)